BEGIN:VCALENDAR
VERSION:2.0
PRODID:-//Woodoaks Farm - ECPv6.15.18//NONSGML v1.0//EN
CALSCALE:GREGORIAN
METHOD:PUBLISH
X-WR-CALNAME:Woodoaks Farm
X-ORIGINAL-URL:https://woodoaksfarm.com
X-WR-CALDESC:Events for Woodoaks Farm
REFRESH-INTERVAL;VALUE=DURATION:PT1H
X-Robots-Tag:noindex
X-PUBLISHED-TTL:PT1H
BEGIN:VTIMEZONE
TZID:UTC
BEGIN:STANDARD
TZOFFSETFROM:+0000
TZOFFSETTO:+0000
TZNAME:UTC
DTSTART:20240101T000000
END:STANDARD
END:VTIMEZONE
BEGIN:VEVENT
DTSTART;TZID=UTC:20251207T130000
DTEND;TZID=UTC:20251207T143000
DTSTAMP:20260419T230404
CREATED:20251117T055054Z
LAST-MODIFIED:20251117T055103Z
UID:3548-1765112400-1765117800@woodoaksfarm.com
SUMMARY:CHRISTMAS SPECIAL - FORAGING & FUNGI WALK WITH FLAVOUR FRED
DESCRIPTION:Take a walk on the wild side with Flavour Fred \nAn introduction to foraging for wild flavour\, covering identification\, responsible foraging\, soil health\, folklore\, and the history of wild ingredients. \nAn extra special session with lovely mulled drinks and spiced treats spotting winter fungi along the way! On booking you will receive a New Order notification which confirms your booking… \nTickets cost £40.00 \nConcessions are available on request. \n10.00 SOLD OUT \n1.30PM – New walk added due to demand. \nTICKETS HERE
URL:https://woodoaksfarm.com/event/christmas-special-foraging-fungi-walk-with-flavour-fred/
LOCATION:Woodoaks Farm\, Woodoaks Farm\, Maple Cross\, Hertfordshire\, WD3 9XQ\, United Kingdom
ATTACH;FMTTYPE=image/jpeg:https://woodoaksfarm.com/wp-content/uploads/2025/11/flavour-fred-7th-december-.jpg
ORGANIZER;CN="Flavour Fred":MAILTO:https://www.flavourfred.com/#
END:VEVENT
END:VCALENDAR