BEGIN:VCALENDAR
VERSION:2.0
PRODID:-//Woodoaks Farm - ECPv6.15.18//NONSGML v1.0//EN
CALSCALE:GREGORIAN
METHOD:PUBLISH
X-WR-CALNAME:Woodoaks Farm
X-ORIGINAL-URL:https://woodoaksfarm.com
X-WR-CALDESC:Events for Woodoaks Farm
REFRESH-INTERVAL;VALUE=DURATION:PT1H
X-Robots-Tag:noindex
X-PUBLISHED-TTL:PT1H
BEGIN:VTIMEZONE
TZID:UTC
BEGIN:STANDARD
TZOFFSETFROM:+0000
TZOFFSETTO:+0000
TZNAME:UTC
DTSTART:20250101T000000
END:STANDARD
END:VTIMEZONE
BEGIN:VEVENT
DTSTART;TZID=UTC:20260424T100000
DTEND;TZID=UTC:20260424T120000
DTSTAMP:20260423T235558
CREATED:20260423T155511Z
LAST-MODIFIED:20260423T155544Z
UID:5965-1777024800-1777032000@woodoaksfarm.com
SUMMARY:COMPOST GIVE & TAKE AWAY
DESCRIPTION:THE GREAT COMPOST GIVE ‘N’ TAKEAWAY.\nFriday 24th April: 10-12midday – or as long as it lasts.\n\nDrive up\, donate\, load up and you’re good to grow!\n\nPLEASE REMEMBER TO BRING A BAG!\n\n\n\nBeautiful soil improver\, made from local cafe and farm waste by our volunteers at Compost Club.\n\n\n\nAll donations made on the morning will be doubled up as part of the Big Give’s EARTH RAISE campaign in conjunction with Soil Association \n\n\n\n(Want to join compost club the hippest place in town? It’s now moved to the later time of 10.00am-11.00am on Wednesday mornings. Come join us and learn everything you need to know about composting at home under the guidance of Flo Garvey of Sarratt Community Garden)
URL:https://woodoaksfarm.com/event/compost-give-take-away/
CATEGORIES:Discovery and Learning
END:VEVENT
END:VCALENDAR