BEGIN:VCALENDAR
VERSION:2.0
PRODID:-//Woodoaks Farm - ECPv6.15.18//NONSGML v1.0//EN
CALSCALE:GREGORIAN
METHOD:PUBLISH
X-WR-CALNAME:Woodoaks Farm
X-ORIGINAL-URL:https://woodoaksfarm.com
X-WR-CALDESC:Events for Woodoaks Farm
REFRESH-INTERVAL;VALUE=DURATION:PT1H
X-Robots-Tag:noindex
X-PUBLISHED-TTL:PT1H
BEGIN:VTIMEZONE
TZID:UTC
BEGIN:STANDARD
TZOFFSETFROM:+0000
TZOFFSETTO:+0000
TZNAME:UTC
DTSTART:20240101T000000
END:STANDARD
END:VTIMEZONE
BEGIN:VEVENT
DTSTART;TZID=UTC:20251206T100000
DTEND;TZID=UTC:20251206T150000
DTSTAMP:20260425T105643
CREATED:20251114T151329Z
LAST-MODIFIED:20251205T163955Z
UID:3490-1765015200-1765033200@woodoaksfarm.com
SUMMARY:MADE AND MERRY FESTIVE DAY
DESCRIPTION:Join us for a creative and wholesome MADE AND MERRY festive day. \nFun for all the family. \n10.00-11.30 Chorleywood Music Orchestra \n10.00-11.30 Come together for Community Black Barn Wreath Making \n10.00-3.00 Nature Based Children’s Christmas Crafts with GROW WILD CLUB – donate to take part \n10.00-1.00 Face Painting with Amy \n11.00/1.00/2.30 Tree Planting Workshops – limited tickets – FREE – book your session. \n11.30/12.30/1.30 Bird Box making Sessions – limited tickets £10.00 \n1.30-2.30 Apple Pressing – come and crush the apples and turn them into delicious juice. \n3.00-4.00 Zumba with Flo\, Regan and Tally. The Christmas Glow Up Session- limited Tickets £10.00 – includes a mince pie and hot drink at the end of session. Come illuminated and dance yourself happy! \nRoast Chestnuts and Crumpet toasting over a campfire (weather permitting) \nPLUS \n\nVolunteer craft stall\nMulled wine with Creative Juices\nNature Inspired Jewellery by Sally Keenleyside\nWoodoaks Honey with Julian the Bee Keeper\nSarratt Community Garden Produce Stall\nThe Tea Shack – food and hot drinks\nChristmas Wreaths – with Melanie of Woodoaks Golden Rose Flower Farm.\nThe Black Barn Community Wreath – come together to create and collaborate and make this years hanging advent wreath together.\n\nFREE ENTRY AND PARKING. \n  \n 
URL:https://woodoaksfarm.com/event/made-and-merry-festive-day/
LOCATION:THE BLACK BARN\, Woodoaks Farm\, Maple Cross\, Hertfordshire\, WD3 9XQ\, United Kingdom
ATTACH;FMTTYPE=image/jpeg:https://woodoaksfarm.com/wp-content/uploads/2025/11/FINAL-MADE-AND-MERRY-6TH-DEC-WOODOAKS.jpg
ORGANIZER;CN="Woodoaks Farm":MAILTO:info@woodoaksfarm.com
END:VEVENT
END:VCALENDAR