BEGIN:VCALENDAR
VERSION:2.0
PRODID:-//Woodoaks Farm - ECPv6.15.18//NONSGML v1.0//EN
CALSCALE:GREGORIAN
METHOD:PUBLISH
X-WR-CALNAME:Woodoaks Farm
X-ORIGINAL-URL:https://woodoaksfarm.com
X-WR-CALDESC:Events for Woodoaks Farm
REFRESH-INTERVAL;VALUE=DURATION:PT1H
X-Robots-Tag:noindex
X-PUBLISHED-TTL:PT1H
BEGIN:VTIMEZONE
TZID:UTC
BEGIN:STANDARD
TZOFFSETFROM:+0000
TZOFFSETTO:+0000
TZNAME:UTC
DTSTART:20270101T000000
END:STANDARD
END:VTIMEZONE
BEGIN:VEVENT
DTSTART;TZID=UTC:20280607T093000
DTEND;TZID=UTC:20280607T103000
DTSTAMP:20260419T190121
CREATED:20250826T081445Z
LAST-MODIFIED:20250826T081631Z
UID:10002838-1843983000-1843986600@woodoaksfarm.com
SUMMARY:COMPOST CLUB - volunteering
DESCRIPTION:Come and learn everything you need to know about COMPOST \nWhat to put in\, what to leave out. \nYou’ll learn how to turn your household waste into something that will improve your soil. \nAn hour of outdoor physical work\, connection\, learning and community. \nWednesdays 9.30-10.30am \nDrop in to take part or find out more. \n  \n 
URL:https://woodoaksfarm.com/event/compost-club-volunteering/2028-06-07/
LOCATION:Woodoaks Farm\, Woodoaks Farm\, Maple Cross\, Hertfordshire\, WD3 9XQ\, United Kingdom
CATEGORIES:Volunteering
ATTACH;FMTTYPE=image/jpeg:https://woodoaksfarm.com/wp-content/uploads/2025/08/COMPOST-CLUB-1.jpg
END:VEVENT
BEGIN:VEVENT
DTSTART;TZID=UTC:20280609T093000
DTEND;TZID=UTC:20280609T123000
DTSTAMP:20260419T190121
CREATED:20260401T153357Z
LAST-MODIFIED:20260401T153357Z
UID:10003099-1844155800-1844166600@woodoaksfarm.com
SUMMARY:GENERAL FARM VOLUNTEERING FRIDAYS
DESCRIPTION:Weekly Friday Volunteering under the guidance of Farm Ranger Steve Dutch. \nSign up to join the Woodoaks volunteering team in a way that suits your lifestyle and availability with no obligations. \nMake connections. Find a purpose. Learn something new! \nTasks vary from week to week from wildlife and landscape conservation\, planting\, coppicing and event prep. \nWhether you want a home based volunteer role or active outdoor physical role – there’s something that will fit you! \nSign up HERE  \n 
URL:https://woodoaksfarm.com/event/general-farm-volunteering-fridays-2/2028-06-09/
LOCATION:Woodoaks Farm\, Woodoaks Farm\, Maple Cross\, Hertfordshire\, WD3 9XQ\, United Kingdom
CATEGORIES:Volunteering
END:VEVENT
BEGIN:VEVENT
DTSTART;TZID=UTC:20280614T093000
DTEND;TZID=UTC:20280614T103000
DTSTAMP:20260419T190121
CREATED:20250826T081445Z
LAST-MODIFIED:20250826T081631Z
UID:10002839-1844587800-1844591400@woodoaksfarm.com
SUMMARY:COMPOST CLUB - volunteering
DESCRIPTION:Come and learn everything you need to know about COMPOST \nWhat to put in\, what to leave out. \nYou’ll learn how to turn your household waste into something that will improve your soil. \nAn hour of outdoor physical work\, connection\, learning and community. \nWednesdays 9.30-10.30am \nDrop in to take part or find out more. \n  \n 
URL:https://woodoaksfarm.com/event/compost-club-volunteering/2028-06-14/
LOCATION:Woodoaks Farm\, Woodoaks Farm\, Maple Cross\, Hertfordshire\, WD3 9XQ\, United Kingdom
CATEGORIES:Volunteering
ATTACH;FMTTYPE=image/jpeg:https://woodoaksfarm.com/wp-content/uploads/2025/08/COMPOST-CLUB-1.jpg
END:VEVENT
BEGIN:VEVENT
DTSTART;TZID=UTC:20280616T093000
DTEND;TZID=UTC:20280616T123000
DTSTAMP:20260419T190121
CREATED:20260401T153357Z
LAST-MODIFIED:20260401T153357Z
UID:10003100-1844760600-1844771400@woodoaksfarm.com
SUMMARY:GENERAL FARM VOLUNTEERING FRIDAYS
DESCRIPTION:Weekly Friday Volunteering under the guidance of Farm Ranger Steve Dutch. \nSign up to join the Woodoaks volunteering team in a way that suits your lifestyle and availability with no obligations. \nMake connections. Find a purpose. Learn something new! \nTasks vary from week to week from wildlife and landscape conservation\, planting\, coppicing and event prep. \nWhether you want a home based volunteer role or active outdoor physical role – there’s something that will fit you! \nSign up HERE  \n 
URL:https://woodoaksfarm.com/event/general-farm-volunteering-fridays-2/2028-06-16/
LOCATION:Woodoaks Farm\, Woodoaks Farm\, Maple Cross\, Hertfordshire\, WD3 9XQ\, United Kingdom
CATEGORIES:Volunteering
END:VEVENT
BEGIN:VEVENT
DTSTART;TZID=UTC:20280621T093000
DTEND;TZID=UTC:20280621T103000
DTSTAMP:20260419T190121
CREATED:20250826T081445Z
LAST-MODIFIED:20250826T081631Z
UID:10002840-1845192600-1845196200@woodoaksfarm.com
SUMMARY:COMPOST CLUB - volunteering
DESCRIPTION:Come and learn everything you need to know about COMPOST \nWhat to put in\, what to leave out. \nYou’ll learn how to turn your household waste into something that will improve your soil. \nAn hour of outdoor physical work\, connection\, learning and community. \nWednesdays 9.30-10.30am \nDrop in to take part or find out more. \n  \n 
URL:https://woodoaksfarm.com/event/compost-club-volunteering/2028-06-21/
LOCATION:Woodoaks Farm\, Woodoaks Farm\, Maple Cross\, Hertfordshire\, WD3 9XQ\, United Kingdom
CATEGORIES:Volunteering
ATTACH;FMTTYPE=image/jpeg:https://woodoaksfarm.com/wp-content/uploads/2025/08/COMPOST-CLUB-1.jpg
END:VEVENT
BEGIN:VEVENT
DTSTART;TZID=UTC:20280623T093000
DTEND;TZID=UTC:20280623T123000
DTSTAMP:20260419T190121
CREATED:20260401T153357Z
LAST-MODIFIED:20260401T153357Z
UID:10003101-1845365400-1845376200@woodoaksfarm.com
SUMMARY:GENERAL FARM VOLUNTEERING FRIDAYS
DESCRIPTION:Weekly Friday Volunteering under the guidance of Farm Ranger Steve Dutch. \nSign up to join the Woodoaks volunteering team in a way that suits your lifestyle and availability with no obligations. \nMake connections. Find a purpose. Learn something new! \nTasks vary from week to week from wildlife and landscape conservation\, planting\, coppicing and event prep. \nWhether you want a home based volunteer role or active outdoor physical role – there’s something that will fit you! \nSign up HERE  \n 
URL:https://woodoaksfarm.com/event/general-farm-volunteering-fridays-2/2028-06-23/
LOCATION:Woodoaks Farm\, Woodoaks Farm\, Maple Cross\, Hertfordshire\, WD3 9XQ\, United Kingdom
CATEGORIES:Volunteering
END:VEVENT
BEGIN:VEVENT
DTSTART;TZID=UTC:20280628T093000
DTEND;TZID=UTC:20280628T103000
DTSTAMP:20260419T190121
CREATED:20250826T081445Z
LAST-MODIFIED:20250826T081631Z
UID:10002841-1845797400-1845801000@woodoaksfarm.com
SUMMARY:COMPOST CLUB - volunteering
DESCRIPTION:Come and learn everything you need to know about COMPOST \nWhat to put in\, what to leave out. \nYou’ll learn how to turn your household waste into something that will improve your soil. \nAn hour of outdoor physical work\, connection\, learning and community. \nWednesdays 9.30-10.30am \nDrop in to take part or find out more. \n  \n 
URL:https://woodoaksfarm.com/event/compost-club-volunteering/2028-06-28/
LOCATION:Woodoaks Farm\, Woodoaks Farm\, Maple Cross\, Hertfordshire\, WD3 9XQ\, United Kingdom
CATEGORIES:Volunteering
ATTACH;FMTTYPE=image/jpeg:https://woodoaksfarm.com/wp-content/uploads/2025/08/COMPOST-CLUB-1.jpg
END:VEVENT
BEGIN:VEVENT
DTSTART;TZID=UTC:20280630T093000
DTEND;TZID=UTC:20280630T123000
DTSTAMP:20260419T190121
CREATED:20260401T153357Z
LAST-MODIFIED:20260401T153357Z
UID:10003102-1845970200-1845981000@woodoaksfarm.com
SUMMARY:GENERAL FARM VOLUNTEERING FRIDAYS
DESCRIPTION:Weekly Friday Volunteering under the guidance of Farm Ranger Steve Dutch. \nSign up to join the Woodoaks volunteering team in a way that suits your lifestyle and availability with no obligations. \nMake connections. Find a purpose. Learn something new! \nTasks vary from week to week from wildlife and landscape conservation\, planting\, coppicing and event prep. \nWhether you want a home based volunteer role or active outdoor physical role – there’s something that will fit you! \nSign up HERE  \n 
URL:https://woodoaksfarm.com/event/general-farm-volunteering-fridays-2/2028-06-30/
LOCATION:Woodoaks Farm\, Woodoaks Farm\, Maple Cross\, Hertfordshire\, WD3 9XQ\, United Kingdom
CATEGORIES:Volunteering
END:VEVENT
BEGIN:VEVENT
DTSTART;TZID=UTC:20280705T093000
DTEND;TZID=UTC:20280705T103000
DTSTAMP:20260419T190121
CREATED:20250826T081445Z
LAST-MODIFIED:20250826T081631Z
UID:10002842-1846402200-1846405800@woodoaksfarm.com
SUMMARY:COMPOST CLUB - volunteering
DESCRIPTION:Come and learn everything you need to know about COMPOST \nWhat to put in\, what to leave out. \nYou’ll learn how to turn your household waste into something that will improve your soil. \nAn hour of outdoor physical work\, connection\, learning and community. \nWednesdays 9.30-10.30am \nDrop in to take part or find out more. \n  \n 
URL:https://woodoaksfarm.com/event/compost-club-volunteering/2028-07-05/
LOCATION:Woodoaks Farm\, Woodoaks Farm\, Maple Cross\, Hertfordshire\, WD3 9XQ\, United Kingdom
CATEGORIES:Volunteering
ATTACH;FMTTYPE=image/jpeg:https://woodoaksfarm.com/wp-content/uploads/2025/08/COMPOST-CLUB-1.jpg
END:VEVENT
BEGIN:VEVENT
DTSTART;TZID=UTC:20280707T093000
DTEND;TZID=UTC:20280707T123000
DTSTAMP:20260419T190121
CREATED:20260401T153357Z
LAST-MODIFIED:20260401T153357Z
UID:10003103-1846575000-1846585800@woodoaksfarm.com
SUMMARY:GENERAL FARM VOLUNTEERING FRIDAYS
DESCRIPTION:Weekly Friday Volunteering under the guidance of Farm Ranger Steve Dutch. \nSign up to join the Woodoaks volunteering team in a way that suits your lifestyle and availability with no obligations. \nMake connections. Find a purpose. Learn something new! \nTasks vary from week to week from wildlife and landscape conservation\, planting\, coppicing and event prep. \nWhether you want a home based volunteer role or active outdoor physical role – there’s something that will fit you! \nSign up HERE  \n 
URL:https://woodoaksfarm.com/event/general-farm-volunteering-fridays-2/2028-07-07/
LOCATION:Woodoaks Farm\, Woodoaks Farm\, Maple Cross\, Hertfordshire\, WD3 9XQ\, United Kingdom
CATEGORIES:Volunteering
END:VEVENT
BEGIN:VEVENT
DTSTART;TZID=UTC:20280712T093000
DTEND;TZID=UTC:20280712T103000
DTSTAMP:20260419T190121
CREATED:20250826T081445Z
LAST-MODIFIED:20250826T081631Z
UID:10002843-1847007000-1847010600@woodoaksfarm.com
SUMMARY:COMPOST CLUB - volunteering
DESCRIPTION:Come and learn everything you need to know about COMPOST \nWhat to put in\, what to leave out. \nYou’ll learn how to turn your household waste into something that will improve your soil. \nAn hour of outdoor physical work\, connection\, learning and community. \nWednesdays 9.30-10.30am \nDrop in to take part or find out more. \n  \n 
URL:https://woodoaksfarm.com/event/compost-club-volunteering/2028-07-12/
LOCATION:Woodoaks Farm\, Woodoaks Farm\, Maple Cross\, Hertfordshire\, WD3 9XQ\, United Kingdom
CATEGORIES:Volunteering
ATTACH;FMTTYPE=image/jpeg:https://woodoaksfarm.com/wp-content/uploads/2025/08/COMPOST-CLUB-1.jpg
END:VEVENT
BEGIN:VEVENT
DTSTART;TZID=UTC:20280714T093000
DTEND;TZID=UTC:20280714T123000
DTSTAMP:20260419T190121
CREATED:20260401T153357Z
LAST-MODIFIED:20260401T153357Z
UID:10003104-1847179800-1847190600@woodoaksfarm.com
SUMMARY:GENERAL FARM VOLUNTEERING FRIDAYS
DESCRIPTION:Weekly Friday Volunteering under the guidance of Farm Ranger Steve Dutch. \nSign up to join the Woodoaks volunteering team in a way that suits your lifestyle and availability with no obligations. \nMake connections. Find a purpose. Learn something new! \nTasks vary from week to week from wildlife and landscape conservation\, planting\, coppicing and event prep. \nWhether you want a home based volunteer role or active outdoor physical role – there’s something that will fit you! \nSign up HERE  \n 
URL:https://woodoaksfarm.com/event/general-farm-volunteering-fridays-2/2028-07-14/
LOCATION:Woodoaks Farm\, Woodoaks Farm\, Maple Cross\, Hertfordshire\, WD3 9XQ\, United Kingdom
CATEGORIES:Volunteering
END:VEVENT
BEGIN:VEVENT
DTSTART;TZID=UTC:20280719T093000
DTEND;TZID=UTC:20280719T103000
DTSTAMP:20260419T190121
CREATED:20250826T081445Z
LAST-MODIFIED:20250826T081631Z
UID:10002844-1847611800-1847615400@woodoaksfarm.com
SUMMARY:COMPOST CLUB - volunteering
DESCRIPTION:Come and learn everything you need to know about COMPOST \nWhat to put in\, what to leave out. \nYou’ll learn how to turn your household waste into something that will improve your soil. \nAn hour of outdoor physical work\, connection\, learning and community. \nWednesdays 9.30-10.30am \nDrop in to take part or find out more. \n  \n 
URL:https://woodoaksfarm.com/event/compost-club-volunteering/2028-07-19/
LOCATION:Woodoaks Farm\, Woodoaks Farm\, Maple Cross\, Hertfordshire\, WD3 9XQ\, United Kingdom
CATEGORIES:Volunteering
ATTACH;FMTTYPE=image/jpeg:https://woodoaksfarm.com/wp-content/uploads/2025/08/COMPOST-CLUB-1.jpg
END:VEVENT
BEGIN:VEVENT
DTSTART;TZID=UTC:20280721T093000
DTEND;TZID=UTC:20280721T123000
DTSTAMP:20260419T190121
CREATED:20260401T153357Z
LAST-MODIFIED:20260401T153357Z
UID:10003105-1847784600-1847795400@woodoaksfarm.com
SUMMARY:GENERAL FARM VOLUNTEERING FRIDAYS
DESCRIPTION:Weekly Friday Volunteering under the guidance of Farm Ranger Steve Dutch. \nSign up to join the Woodoaks volunteering team in a way that suits your lifestyle and availability with no obligations. \nMake connections. Find a purpose. Learn something new! \nTasks vary from week to week from wildlife and landscape conservation\, planting\, coppicing and event prep. \nWhether you want a home based volunteer role or active outdoor physical role – there’s something that will fit you! \nSign up HERE  \n 
URL:https://woodoaksfarm.com/event/general-farm-volunteering-fridays-2/2028-07-21/
LOCATION:Woodoaks Farm\, Woodoaks Farm\, Maple Cross\, Hertfordshire\, WD3 9XQ\, United Kingdom
CATEGORIES:Volunteering
END:VEVENT
BEGIN:VEVENT
DTSTART;TZID=UTC:20280726T093000
DTEND;TZID=UTC:20280726T103000
DTSTAMP:20260419T190121
CREATED:20250826T081445Z
LAST-MODIFIED:20250826T081631Z
UID:10002845-1848216600-1848220200@woodoaksfarm.com
SUMMARY:COMPOST CLUB - volunteering
DESCRIPTION:Come and learn everything you need to know about COMPOST \nWhat to put in\, what to leave out. \nYou’ll learn how to turn your household waste into something that will improve your soil. \nAn hour of outdoor physical work\, connection\, learning and community. \nWednesdays 9.30-10.30am \nDrop in to take part or find out more. \n  \n 
URL:https://woodoaksfarm.com/event/compost-club-volunteering/2028-07-26/
LOCATION:Woodoaks Farm\, Woodoaks Farm\, Maple Cross\, Hertfordshire\, WD3 9XQ\, United Kingdom
CATEGORIES:Volunteering
ATTACH;FMTTYPE=image/jpeg:https://woodoaksfarm.com/wp-content/uploads/2025/08/COMPOST-CLUB-1.jpg
END:VEVENT
BEGIN:VEVENT
DTSTART;TZID=UTC:20280728T093000
DTEND;TZID=UTC:20280728T123000
DTSTAMP:20260419T190121
CREATED:20260401T153357Z
LAST-MODIFIED:20260401T153357Z
UID:10003106-1848389400-1848400200@woodoaksfarm.com
SUMMARY:GENERAL FARM VOLUNTEERING FRIDAYS
DESCRIPTION:Weekly Friday Volunteering under the guidance of Farm Ranger Steve Dutch. \nSign up to join the Woodoaks volunteering team in a way that suits your lifestyle and availability with no obligations. \nMake connections. Find a purpose. Learn something new! \nTasks vary from week to week from wildlife and landscape conservation\, planting\, coppicing and event prep. \nWhether you want a home based volunteer role or active outdoor physical role – there’s something that will fit you! \nSign up HERE  \n 
URL:https://woodoaksfarm.com/event/general-farm-volunteering-fridays-2/2028-07-28/
LOCATION:Woodoaks Farm\, Woodoaks Farm\, Maple Cross\, Hertfordshire\, WD3 9XQ\, United Kingdom
CATEGORIES:Volunteering
END:VEVENT
BEGIN:VEVENT
DTSTART;TZID=UTC:20280802T093000
DTEND;TZID=UTC:20280802T103000
DTSTAMP:20260419T190121
CREATED:20250826T081445Z
LAST-MODIFIED:20250826T081631Z
UID:10002846-1848821400-1848825000@woodoaksfarm.com
SUMMARY:COMPOST CLUB - volunteering
DESCRIPTION:Come and learn everything you need to know about COMPOST \nWhat to put in\, what to leave out. \nYou’ll learn how to turn your household waste into something that will improve your soil. \nAn hour of outdoor physical work\, connection\, learning and community. \nWednesdays 9.30-10.30am \nDrop in to take part or find out more. \n  \n 
URL:https://woodoaksfarm.com/event/compost-club-volunteering/2028-08-02/
LOCATION:Woodoaks Farm\, Woodoaks Farm\, Maple Cross\, Hertfordshire\, WD3 9XQ\, United Kingdom
CATEGORIES:Volunteering
ATTACH;FMTTYPE=image/jpeg:https://woodoaksfarm.com/wp-content/uploads/2025/08/COMPOST-CLUB-1.jpg
END:VEVENT
BEGIN:VEVENT
DTSTART;TZID=UTC:20280804T093000
DTEND;TZID=UTC:20280804T123000
DTSTAMP:20260419T190121
CREATED:20260401T153357Z
LAST-MODIFIED:20260401T153357Z
UID:10003107-1848994200-1849005000@woodoaksfarm.com
SUMMARY:GENERAL FARM VOLUNTEERING FRIDAYS
DESCRIPTION:Weekly Friday Volunteering under the guidance of Farm Ranger Steve Dutch. \nSign up to join the Woodoaks volunteering team in a way that suits your lifestyle and availability with no obligations. \nMake connections. Find a purpose. Learn something new! \nTasks vary from week to week from wildlife and landscape conservation\, planting\, coppicing and event prep. \nWhether you want a home based volunteer role or active outdoor physical role – there’s something that will fit you! \nSign up HERE  \n 
URL:https://woodoaksfarm.com/event/general-farm-volunteering-fridays-2/2028-08-04/
LOCATION:Woodoaks Farm\, Woodoaks Farm\, Maple Cross\, Hertfordshire\, WD3 9XQ\, United Kingdom
CATEGORIES:Volunteering
END:VEVENT
BEGIN:VEVENT
DTSTART;TZID=UTC:20280809T093000
DTEND;TZID=UTC:20280809T103000
DTSTAMP:20260419T190121
CREATED:20250826T081445Z
LAST-MODIFIED:20250826T081631Z
UID:10002847-1849426200-1849429800@woodoaksfarm.com
SUMMARY:COMPOST CLUB - volunteering
DESCRIPTION:Come and learn everything you need to know about COMPOST \nWhat to put in\, what to leave out. \nYou’ll learn how to turn your household waste into something that will improve your soil. \nAn hour of outdoor physical work\, connection\, learning and community. \nWednesdays 9.30-10.30am \nDrop in to take part or find out more. \n  \n 
URL:https://woodoaksfarm.com/event/compost-club-volunteering/2028-08-09/
LOCATION:Woodoaks Farm\, Woodoaks Farm\, Maple Cross\, Hertfordshire\, WD3 9XQ\, United Kingdom
CATEGORIES:Volunteering
ATTACH;FMTTYPE=image/jpeg:https://woodoaksfarm.com/wp-content/uploads/2025/08/COMPOST-CLUB-1.jpg
END:VEVENT
BEGIN:VEVENT
DTSTART;TZID=UTC:20280811T093000
DTEND;TZID=UTC:20280811T123000
DTSTAMP:20260419T190121
CREATED:20260401T153357Z
LAST-MODIFIED:20260401T153357Z
UID:10003108-1849599000-1849609800@woodoaksfarm.com
SUMMARY:GENERAL FARM VOLUNTEERING FRIDAYS
DESCRIPTION:Weekly Friday Volunteering under the guidance of Farm Ranger Steve Dutch. \nSign up to join the Woodoaks volunteering team in a way that suits your lifestyle and availability with no obligations. \nMake connections. Find a purpose. Learn something new! \nTasks vary from week to week from wildlife and landscape conservation\, planting\, coppicing and event prep. \nWhether you want a home based volunteer role or active outdoor physical role – there’s something that will fit you! \nSign up HERE  \n 
URL:https://woodoaksfarm.com/event/general-farm-volunteering-fridays-2/2028-08-11/
LOCATION:Woodoaks Farm\, Woodoaks Farm\, Maple Cross\, Hertfordshire\, WD3 9XQ\, United Kingdom
CATEGORIES:Volunteering
END:VEVENT
BEGIN:VEVENT
DTSTART;TZID=UTC:20280816T093000
DTEND;TZID=UTC:20280816T103000
DTSTAMP:20260419T190121
CREATED:20250826T081445Z
LAST-MODIFIED:20250826T081631Z
UID:10002848-1850031000-1850034600@woodoaksfarm.com
SUMMARY:COMPOST CLUB - volunteering
DESCRIPTION:Come and learn everything you need to know about COMPOST \nWhat to put in\, what to leave out. \nYou’ll learn how to turn your household waste into something that will improve your soil. \nAn hour of outdoor physical work\, connection\, learning and community. \nWednesdays 9.30-10.30am \nDrop in to take part or find out more. \n  \n 
URL:https://woodoaksfarm.com/event/compost-club-volunteering/2028-08-16/
LOCATION:Woodoaks Farm\, Woodoaks Farm\, Maple Cross\, Hertfordshire\, WD3 9XQ\, United Kingdom
CATEGORIES:Volunteering
ATTACH;FMTTYPE=image/jpeg:https://woodoaksfarm.com/wp-content/uploads/2025/08/COMPOST-CLUB-1.jpg
END:VEVENT
BEGIN:VEVENT
DTSTART;TZID=UTC:20280818T093000
DTEND;TZID=UTC:20280818T123000
DTSTAMP:20260419T190121
CREATED:20260401T153357Z
LAST-MODIFIED:20260401T153357Z
UID:10003109-1850203800-1850214600@woodoaksfarm.com
SUMMARY:GENERAL FARM VOLUNTEERING FRIDAYS
DESCRIPTION:Weekly Friday Volunteering under the guidance of Farm Ranger Steve Dutch. \nSign up to join the Woodoaks volunteering team in a way that suits your lifestyle and availability with no obligations. \nMake connections. Find a purpose. Learn something new! \nTasks vary from week to week from wildlife and landscape conservation\, planting\, coppicing and event prep. \nWhether you want a home based volunteer role or active outdoor physical role – there’s something that will fit you! \nSign up HERE  \n 
URL:https://woodoaksfarm.com/event/general-farm-volunteering-fridays-2/2028-08-18/
LOCATION:Woodoaks Farm\, Woodoaks Farm\, Maple Cross\, Hertfordshire\, WD3 9XQ\, United Kingdom
CATEGORIES:Volunteering
END:VEVENT
BEGIN:VEVENT
DTSTART;TZID=UTC:20280823T093000
DTEND;TZID=UTC:20280823T103000
DTSTAMP:20260419T190121
CREATED:20250826T081445Z
LAST-MODIFIED:20250826T081631Z
UID:10002849-1850635800-1850639400@woodoaksfarm.com
SUMMARY:COMPOST CLUB - volunteering
DESCRIPTION:Come and learn everything you need to know about COMPOST \nWhat to put in\, what to leave out. \nYou’ll learn how to turn your household waste into something that will improve your soil. \nAn hour of outdoor physical work\, connection\, learning and community. \nWednesdays 9.30-10.30am \nDrop in to take part or find out more. \n  \n 
URL:https://woodoaksfarm.com/event/compost-club-volunteering/2028-08-23/
LOCATION:Woodoaks Farm\, Woodoaks Farm\, Maple Cross\, Hertfordshire\, WD3 9XQ\, United Kingdom
CATEGORIES:Volunteering
ATTACH;FMTTYPE=image/jpeg:https://woodoaksfarm.com/wp-content/uploads/2025/08/COMPOST-CLUB-1.jpg
END:VEVENT
BEGIN:VEVENT
DTSTART;TZID=UTC:20280825T093000
DTEND;TZID=UTC:20280825T123000
DTSTAMP:20260419T190121
CREATED:20260401T153357Z
LAST-MODIFIED:20260401T153357Z
UID:10003110-1850808600-1850819400@woodoaksfarm.com
SUMMARY:GENERAL FARM VOLUNTEERING FRIDAYS
DESCRIPTION:Weekly Friday Volunteering under the guidance of Farm Ranger Steve Dutch. \nSign up to join the Woodoaks volunteering team in a way that suits your lifestyle and availability with no obligations. \nMake connections. Find a purpose. Learn something new! \nTasks vary from week to week from wildlife and landscape conservation\, planting\, coppicing and event prep. \nWhether you want a home based volunteer role or active outdoor physical role – there’s something that will fit you! \nSign up HERE  \n 
URL:https://woodoaksfarm.com/event/general-farm-volunteering-fridays-2/2028-08-25/
LOCATION:Woodoaks Farm\, Woodoaks Farm\, Maple Cross\, Hertfordshire\, WD3 9XQ\, United Kingdom
CATEGORIES:Volunteering
END:VEVENT
BEGIN:VEVENT
DTSTART;TZID=UTC:20280830T093000
DTEND;TZID=UTC:20280830T103000
DTSTAMP:20260419T190121
CREATED:20250826T081445Z
LAST-MODIFIED:20250826T081631Z
UID:10002850-1851240600-1851244200@woodoaksfarm.com
SUMMARY:COMPOST CLUB - volunteering
DESCRIPTION:Come and learn everything you need to know about COMPOST \nWhat to put in\, what to leave out. \nYou’ll learn how to turn your household waste into something that will improve your soil. \nAn hour of outdoor physical work\, connection\, learning and community. \nWednesdays 9.30-10.30am \nDrop in to take part or find out more. \n  \n 
URL:https://woodoaksfarm.com/event/compost-club-volunteering/2028-08-30/
LOCATION:Woodoaks Farm\, Woodoaks Farm\, Maple Cross\, Hertfordshire\, WD3 9XQ\, United Kingdom
CATEGORIES:Volunteering
ATTACH;FMTTYPE=image/jpeg:https://woodoaksfarm.com/wp-content/uploads/2025/08/COMPOST-CLUB-1.jpg
END:VEVENT
BEGIN:VEVENT
DTSTART;TZID=UTC:20280901T093000
DTEND;TZID=UTC:20280901T123000
DTSTAMP:20260419T190121
CREATED:20260401T153357Z
LAST-MODIFIED:20260401T153357Z
UID:10003111-1851413400-1851424200@woodoaksfarm.com
SUMMARY:GENERAL FARM VOLUNTEERING FRIDAYS
DESCRIPTION:Weekly Friday Volunteering under the guidance of Farm Ranger Steve Dutch. \nSign up to join the Woodoaks volunteering team in a way that suits your lifestyle and availability with no obligations. \nMake connections. Find a purpose. Learn something new! \nTasks vary from week to week from wildlife and landscape conservation\, planting\, coppicing and event prep. \nWhether you want a home based volunteer role or active outdoor physical role – there’s something that will fit you! \nSign up HERE  \n 
URL:https://woodoaksfarm.com/event/general-farm-volunteering-fridays-2/2028-09-01/
LOCATION:Woodoaks Farm\, Woodoaks Farm\, Maple Cross\, Hertfordshire\, WD3 9XQ\, United Kingdom
CATEGORIES:Volunteering
END:VEVENT
BEGIN:VEVENT
DTSTART;TZID=UTC:20280906T093000
DTEND;TZID=UTC:20280906T103000
DTSTAMP:20260419T190121
CREATED:20250826T081445Z
LAST-MODIFIED:20250826T081631Z
UID:10002851-1851845400-1851849000@woodoaksfarm.com
SUMMARY:COMPOST CLUB - volunteering
DESCRIPTION:Come and learn everything you need to know about COMPOST \nWhat to put in\, what to leave out. \nYou’ll learn how to turn your household waste into something that will improve your soil. \nAn hour of outdoor physical work\, connection\, learning and community. \nWednesdays 9.30-10.30am \nDrop in to take part or find out more. \n  \n 
URL:https://woodoaksfarm.com/event/compost-club-volunteering/2028-09-06/
LOCATION:Woodoaks Farm\, Woodoaks Farm\, Maple Cross\, Hertfordshire\, WD3 9XQ\, United Kingdom
CATEGORIES:Volunteering
ATTACH;FMTTYPE=image/jpeg:https://woodoaksfarm.com/wp-content/uploads/2025/08/COMPOST-CLUB-1.jpg
END:VEVENT
BEGIN:VEVENT
DTSTART;TZID=UTC:20280908T093000
DTEND;TZID=UTC:20280908T123000
DTSTAMP:20260419T190121
CREATED:20260401T153357Z
LAST-MODIFIED:20260401T153357Z
UID:10003112-1852018200-1852029000@woodoaksfarm.com
SUMMARY:GENERAL FARM VOLUNTEERING FRIDAYS
DESCRIPTION:Weekly Friday Volunteering under the guidance of Farm Ranger Steve Dutch. \nSign up to join the Woodoaks volunteering team in a way that suits your lifestyle and availability with no obligations. \nMake connections. Find a purpose. Learn something new! \nTasks vary from week to week from wildlife and landscape conservation\, planting\, coppicing and event prep. \nWhether you want a home based volunteer role or active outdoor physical role – there’s something that will fit you! \nSign up HERE  \n 
URL:https://woodoaksfarm.com/event/general-farm-volunteering-fridays-2/2028-09-08/
LOCATION:Woodoaks Farm\, Woodoaks Farm\, Maple Cross\, Hertfordshire\, WD3 9XQ\, United Kingdom
CATEGORIES:Volunteering
END:VEVENT
BEGIN:VEVENT
DTSTART;TZID=UTC:20280913T093000
DTEND;TZID=UTC:20280913T103000
DTSTAMP:20260419T190121
CREATED:20250826T081445Z
LAST-MODIFIED:20250826T081631Z
UID:10002852-1852450200-1852453800@woodoaksfarm.com
SUMMARY:COMPOST CLUB - volunteering
DESCRIPTION:Come and learn everything you need to know about COMPOST \nWhat to put in\, what to leave out. \nYou’ll learn how to turn your household waste into something that will improve your soil. \nAn hour of outdoor physical work\, connection\, learning and community. \nWednesdays 9.30-10.30am \nDrop in to take part or find out more. \n  \n 
URL:https://woodoaksfarm.com/event/compost-club-volunteering/2028-09-13/
LOCATION:Woodoaks Farm\, Woodoaks Farm\, Maple Cross\, Hertfordshire\, WD3 9XQ\, United Kingdom
CATEGORIES:Volunteering
ATTACH;FMTTYPE=image/jpeg:https://woodoaksfarm.com/wp-content/uploads/2025/08/COMPOST-CLUB-1.jpg
END:VEVENT
BEGIN:VEVENT
DTSTART;TZID=UTC:20280915T093000
DTEND;TZID=UTC:20280915T123000
DTSTAMP:20260419T190121
CREATED:20260401T153357Z
LAST-MODIFIED:20260401T153357Z
UID:10003113-1852623000-1852633800@woodoaksfarm.com
SUMMARY:GENERAL FARM VOLUNTEERING FRIDAYS
DESCRIPTION:Weekly Friday Volunteering under the guidance of Farm Ranger Steve Dutch. \nSign up to join the Woodoaks volunteering team in a way that suits your lifestyle and availability with no obligations. \nMake connections. Find a purpose. Learn something new! \nTasks vary from week to week from wildlife and landscape conservation\, planting\, coppicing and event prep. \nWhether you want a home based volunteer role or active outdoor physical role – there’s something that will fit you! \nSign up HERE  \n 
URL:https://woodoaksfarm.com/event/general-farm-volunteering-fridays-2/2028-09-15/
LOCATION:Woodoaks Farm\, Woodoaks Farm\, Maple Cross\, Hertfordshire\, WD3 9XQ\, United Kingdom
CATEGORIES:Volunteering
END:VEVENT
END:VCALENDAR