BEGIN:VCALENDAR
VERSION:2.0
PRODID:-//Woodoaks Farm - ECPv6.15.18//NONSGML v1.0//EN
CALSCALE:GREGORIAN
METHOD:PUBLISH
X-WR-CALNAME:Woodoaks Farm
X-ORIGINAL-URL:https://woodoaksfarm.com
X-WR-CALDESC:Events for Woodoaks Farm
REFRESH-INTERVAL;VALUE=DURATION:PT1H
X-Robots-Tag:noindex
X-PUBLISHED-TTL:PT1H
BEGIN:VTIMEZONE
TZID:UTC
BEGIN:STANDARD
TZOFFSETFROM:+0000
TZOFFSETTO:+0000
TZNAME:UTC
DTSTART:20240101T000000
END:STANDARD
END:VTIMEZONE
BEGIN:VEVENT
DTSTART;TZID=UTC:20251006T193000
DTEND;TZID=UTC:20251006T203000
DTSTAMP:20260421T022526
CREATED:20250826T040252Z
LAST-MODIFIED:20250827T132319Z
UID:10001607-1759779000-1759782600@woodoaksfarm.com
SUMMARY:BOOTCAMP with LVFITT - Strength & Power
DESCRIPTION:Challenge yourself to improve your fitness\, strength and stamina. \nJoin Lawrence and the Bootcamp team for an hour’s class in a farm setting. \nMonday 7.30-8.30pm – Strength and Power Class. \nBook your class HERE
URL:https://woodoaksfarm.com/event/lvfitt-bootcamp-strength-power/2025-10-06/
CATEGORIES:bootcamp,Wellness Events
ATTACH;FMTTYPE=image/jpeg:https://woodoaksfarm.com/wp-content/uploads/2025/08/lvfitt.jpg
ORGANIZER;CN="LVFITT":MAILTO:bookings@lvfitt.co.uk
END:VEVENT
BEGIN:VEVENT
DTSTART;TZID=UTC:20251003T100000
DTEND;TZID=UTC:20251003T233000
DTSTAMP:20260421T022526
CREATED:20250826T043320Z
LAST-MODIFIED:20260401T154627Z
UID:10002649-1759485600-1759534200@woodoaksfarm.com
SUMMARY:GROW WILD FOREST SCHOOL - Wild Owlets Session for 1-5 year olds.
DESCRIPTION:Join us at our beautiful woodland spot at Woodoaks Farm for a relaxed morning of outdoor play and nature connection\, led by Forest School leader Claire. \nEach week features 90 minutes of nature craft\, wild adventures\, brilliant bugs and plenty of mud. We finish with story time around the crackling fire and a tasty snack. \nForest School is a great place for children to grow their first connection to nature. They can enjoy free time in the outdoors\, make memories\, have fun\, grow friendships\, build independence\, resilience and creativity while soaking up the fresh air and calming views of green. \n£12.50 per child. Additional siblings £10.00 \nAges 1-5 year olds. \nFor Full Details and to book your place click HERE \n  \n 
URL:https://woodoaksfarm.com/event/grow-wild-forest-school-wild-owlets-session-for-1-5-year-olds/2025-10-03/
LOCATION:Fox Dell\, Ladywalk Wood\, Woodoaks Farm
CATEGORIES:Forest School,Wellness Events
ATTACH;FMTTYPE=image/jpeg:https://woodoaksfarm.com/wp-content/uploads/2025/08/473078390_122155019114293800_760617426911171844_n.jpg
END:VEVENT
BEGIN:VEVENT
DTSTART;TZID=UTC:20250929T193000
DTEND;TZID=UTC:20250929T203000
DTSTAMP:20260421T022526
CREATED:20250826T040252Z
LAST-MODIFIED:20250827T132319Z
UID:10001606-1759174200-1759177800@woodoaksfarm.com
SUMMARY:BOOTCAMP with LVFITT - Strength & Power
DESCRIPTION:Challenge yourself to improve your fitness\, strength and stamina. \nJoin Lawrence and the Bootcamp team for an hour’s class in a farm setting. \nMonday 7.30-8.30pm – Strength and Power Class. \nBook your class HERE
URL:https://woodoaksfarm.com/event/lvfitt-bootcamp-strength-power/2025-09-29/
CATEGORIES:bootcamp,Wellness Events
ATTACH;FMTTYPE=image/jpeg:https://woodoaksfarm.com/wp-content/uploads/2025/08/lvfitt.jpg
ORGANIZER;CN="LVFITT":MAILTO:bookings@lvfitt.co.uk
END:VEVENT
BEGIN:VEVENT
DTSTART;TZID=UTC:20250926T100000
DTEND;TZID=UTC:20250926T233000
DTSTAMP:20260421T022526
CREATED:20250826T043320Z
LAST-MODIFIED:20260401T154627Z
UID:10002648-1758880800-1758929400@woodoaksfarm.com
SUMMARY:GROW WILD FOREST SCHOOL - Wild Owlets Session for 1-5 year olds.
DESCRIPTION:Join us at our beautiful woodland spot at Woodoaks Farm for a relaxed morning of outdoor play and nature connection\, led by Forest School leader Claire. \nEach week features 90 minutes of nature craft\, wild adventures\, brilliant bugs and plenty of mud. We finish with story time around the crackling fire and a tasty snack. \nForest School is a great place for children to grow their first connection to nature. They can enjoy free time in the outdoors\, make memories\, have fun\, grow friendships\, build independence\, resilience and creativity while soaking up the fresh air and calming views of green. \n£12.50 per child. Additional siblings £10.00 \nAges 1-5 year olds. \nFor Full Details and to book your place click HERE \n  \n 
URL:https://woodoaksfarm.com/event/grow-wild-forest-school-wild-owlets-session-for-1-5-year-olds/2025-09-26/
LOCATION:Fox Dell\, Ladywalk Wood\, Woodoaks Farm
CATEGORIES:Forest School,Wellness Events
ATTACH;FMTTYPE=image/jpeg:https://woodoaksfarm.com/wp-content/uploads/2025/08/473078390_122155019114293800_760617426911171844_n.jpg
END:VEVENT
BEGIN:VEVENT
DTSTART;TZID=UTC:20250922T193000
DTEND;TZID=UTC:20250922T203000
DTSTAMP:20260421T022526
CREATED:20250826T040252Z
LAST-MODIFIED:20250827T132319Z
UID:10001605-1758569400-1758573000@woodoaksfarm.com
SUMMARY:BOOTCAMP with LVFITT - Strength & Power
DESCRIPTION:Challenge yourself to improve your fitness\, strength and stamina. \nJoin Lawrence and the Bootcamp team for an hour’s class in a farm setting. \nMonday 7.30-8.30pm – Strength and Power Class. \nBook your class HERE
URL:https://woodoaksfarm.com/event/lvfitt-bootcamp-strength-power/2025-09-22/
CATEGORIES:bootcamp,Wellness Events
ATTACH;FMTTYPE=image/jpeg:https://woodoaksfarm.com/wp-content/uploads/2025/08/lvfitt.jpg
ORGANIZER;CN="LVFITT":MAILTO:bookings@lvfitt.co.uk
END:VEVENT
BEGIN:VEVENT
DTSTART;TZID=UTC:20250919T100000
DTEND;TZID=UTC:20250919T233000
DTSTAMP:20260421T022526
CREATED:20250826T043320Z
LAST-MODIFIED:20260401T154627Z
UID:10002647-1758276000-1758324600@woodoaksfarm.com
SUMMARY:GROW WILD FOREST SCHOOL - Wild Owlets Session for 1-5 year olds.
DESCRIPTION:Join us at our beautiful woodland spot at Woodoaks Farm for a relaxed morning of outdoor play and nature connection\, led by Forest School leader Claire. \nEach week features 90 minutes of nature craft\, wild adventures\, brilliant bugs and plenty of mud. We finish with story time around the crackling fire and a tasty snack. \nForest School is a great place for children to grow their first connection to nature. They can enjoy free time in the outdoors\, make memories\, have fun\, grow friendships\, build independence\, resilience and creativity while soaking up the fresh air and calming views of green. \n£12.50 per child. Additional siblings £10.00 \nAges 1-5 year olds. \nFor Full Details and to book your place click HERE \n  \n 
URL:https://woodoaksfarm.com/event/grow-wild-forest-school-wild-owlets-session-for-1-5-year-olds/2025-09-19/
LOCATION:Fox Dell\, Ladywalk Wood\, Woodoaks Farm
CATEGORIES:Forest School,Wellness Events
ATTACH;FMTTYPE=image/jpeg:https://woodoaksfarm.com/wp-content/uploads/2025/08/473078390_122155019114293800_760617426911171844_n.jpg
END:VEVENT
BEGIN:VEVENT
DTSTART;TZID=UTC:20250915T193000
DTEND;TZID=UTC:20250915T203000
DTSTAMP:20260421T022526
CREATED:20250826T040252Z
LAST-MODIFIED:20250827T132319Z
UID:10001604-1757964600-1757968200@woodoaksfarm.com
SUMMARY:BOOTCAMP with LVFITT - Strength & Power
DESCRIPTION:Challenge yourself to improve your fitness\, strength and stamina. \nJoin Lawrence and the Bootcamp team for an hour’s class in a farm setting. \nMonday 7.30-8.30pm – Strength and Power Class. \nBook your class HERE
URL:https://woodoaksfarm.com/event/lvfitt-bootcamp-strength-power/2025-09-15/
CATEGORIES:bootcamp,Wellness Events
ATTACH;FMTTYPE=image/jpeg:https://woodoaksfarm.com/wp-content/uploads/2025/08/lvfitt.jpg
ORGANIZER;CN="LVFITT":MAILTO:bookings@lvfitt.co.uk
END:VEVENT
BEGIN:VEVENT
DTSTART;TZID=UTC:20250912T100000
DTEND;TZID=UTC:20250912T233000
DTSTAMP:20260421T022526
CREATED:20250826T043320Z
LAST-MODIFIED:20260401T154627Z
UID:10002646-1757671200-1757719800@woodoaksfarm.com
SUMMARY:GROW WILD FOREST SCHOOL - Wild Owlets Session for 1-5 year olds.
DESCRIPTION:Join us at our beautiful woodland spot at Woodoaks Farm for a relaxed morning of outdoor play and nature connection\, led by Forest School leader Claire. \nEach week features 90 minutes of nature craft\, wild adventures\, brilliant bugs and plenty of mud. We finish with story time around the crackling fire and a tasty snack. \nForest School is a great place for children to grow their first connection to nature. They can enjoy free time in the outdoors\, make memories\, have fun\, grow friendships\, build independence\, resilience and creativity while soaking up the fresh air and calming views of green. \n£12.50 per child. Additional siblings £10.00 \nAges 1-5 year olds. \nFor Full Details and to book your place click HERE \n  \n 
URL:https://woodoaksfarm.com/event/grow-wild-forest-school-wild-owlets-session-for-1-5-year-olds/2025-09-12/
LOCATION:Fox Dell\, Ladywalk Wood\, Woodoaks Farm
CATEGORIES:Forest School,Wellness Events
ATTACH;FMTTYPE=image/jpeg:https://woodoaksfarm.com/wp-content/uploads/2025/08/473078390_122155019114293800_760617426911171844_n.jpg
END:VEVENT
BEGIN:VEVENT
DTSTART;TZID=UTC:20250908T193000
DTEND;TZID=UTC:20250908T203000
DTSTAMP:20260421T022526
CREATED:20250826T040252Z
LAST-MODIFIED:20250827T132319Z
UID:10001603-1757359800-1757363400@woodoaksfarm.com
SUMMARY:BOOTCAMP with LVFITT - Strength & Power
DESCRIPTION:Challenge yourself to improve your fitness\, strength and stamina. \nJoin Lawrence and the Bootcamp team for an hour’s class in a farm setting. \nMonday 7.30-8.30pm – Strength and Power Class. \nBook your class HERE
URL:https://woodoaksfarm.com/event/lvfitt-bootcamp-strength-power/2025-09-08/
CATEGORIES:bootcamp,Wellness Events
ATTACH;FMTTYPE=image/jpeg:https://woodoaksfarm.com/wp-content/uploads/2025/08/lvfitt.jpg
ORGANIZER;CN="LVFITT":MAILTO:bookings@lvfitt.co.uk
END:VEVENT
BEGIN:VEVENT
DTSTART;TZID=UTC:20250908T183000
DTEND;TZID=UTC:20250908T193000
DTSTAMP:20260421T022526
CREATED:20250826T080250Z
LAST-MODIFIED:20250827T132219Z
UID:10002695-1757356200-1757359800@woodoaksfarm.com
SUMMARY:RUNFIT with Inclusive PT
DESCRIPTION:Join Running Coach Bo Bambridge at Woodoaks Farm to improve your running performance\, stamina and fitness. \nThese sessions are designed for those that can already run but are looking for extra help\, direction and inspiration. \nGuaranteed too move you forward in a way that gives you confidence and practical understanding\, whilst have a good time with like minded people. \nSessions cost £7.50 \nMondays 6.30-7.30 \nBook HERE
URL:https://woodoaksfarm.com/event/runfit-with-inclusive-pt/2025-09-08/
LOCATION:Woodoaks Farm\, Woodoaks Farm\, Maple Cross\, Hertfordshire\, WD3 9XQ\, United Kingdom
CATEGORIES:RunFit,Wellness Events
ATTACH;FMTTYPE=image/png:https://woodoaksfarm.com/wp-content/uploads/2025/08/grow-wild-club.png
END:VEVENT
BEGIN:VEVENT
DTSTART;TZID=UTC:20250901T193000
DTEND;TZID=UTC:20250901T203000
DTSTAMP:20260421T022526
CREATED:20250826T040252Z
LAST-MODIFIED:20250827T132319Z
UID:10001602-1756755000-1756758600@woodoaksfarm.com
SUMMARY:BOOTCAMP with LVFITT - Strength & Power
DESCRIPTION:Challenge yourself to improve your fitness\, strength and stamina. \nJoin Lawrence and the Bootcamp team for an hour’s class in a farm setting. \nMonday 7.30-8.30pm – Strength and Power Class. \nBook your class HERE
URL:https://woodoaksfarm.com/event/lvfitt-bootcamp-strength-power/2025-09-01/
CATEGORIES:bootcamp,Wellness Events
ATTACH;FMTTYPE=image/jpeg:https://woodoaksfarm.com/wp-content/uploads/2025/08/lvfitt.jpg
ORGANIZER;CN="LVFITT":MAILTO:bookings@lvfitt.co.uk
END:VEVENT
BEGIN:VEVENT
DTSTART;TZID=UTC:20250901T183000
DTEND;TZID=UTC:20250901T193000
DTSTAMP:20260421T022526
CREATED:20250826T080250Z
LAST-MODIFIED:20250827T132219Z
UID:10002694-1756751400-1756755000@woodoaksfarm.com
SUMMARY:RUNFIT with Inclusive PT
DESCRIPTION:Join Running Coach Bo Bambridge at Woodoaks Farm to improve your running performance\, stamina and fitness. \nThese sessions are designed for those that can already run but are looking for extra help\, direction and inspiration. \nGuaranteed too move you forward in a way that gives you confidence and practical understanding\, whilst have a good time with like minded people. \nSessions cost £7.50 \nMondays 6.30-7.30 \nBook HERE
URL:https://woodoaksfarm.com/event/runfit-with-inclusive-pt/2025-09-01/
LOCATION:Woodoaks Farm\, Woodoaks Farm\, Maple Cross\, Hertfordshire\, WD3 9XQ\, United Kingdom
CATEGORIES:RunFit,Wellness Events
ATTACH;FMTTYPE=image/png:https://woodoaksfarm.com/wp-content/uploads/2025/08/grow-wild-club.png
END:VEVENT
BEGIN:VEVENT
DTSTART;TZID=UTC:20250831T090000
DTEND;TZID=UTC:20250831T090000
DTSTAMP:20260421T022526
CREATED:20250826T033228Z
LAST-MODIFIED:20251203T044627Z
UID:10000558-1756630800-1756630800@woodoaksfarm.com
SUMMARY:YOGA IN NATURE
DESCRIPTION:Sunday Yoga in Nature with Marina or Julia \nJoin us for an opportunity to connect to nature and your inner calm in a busy world. \nEnjoy a fluid and flowing sequence of grounding\, uplifting yoga\, ending with Savasana relaxation time. \nSuitable for all levels. \nBring Water\, a mat if you have it – spares available. \nDrop in Class – in Black Barn or Farm Field. \n£10.00 Pay on day – card preferable.
URL:https://woodoaksfarm.com/event/yoga-in-nature/2025-08-31/2/
CATEGORIES:Wellness Events
ATTACH;FMTTYPE=image/jpeg:https://woodoaksfarm.com/wp-content/uploads/2025/08/Sunday-yoga-Facebook-Event-Cover.jpg
END:VEVENT
BEGIN:VEVENT
DTSTART;TZID=UTC:20250831T080000
DTEND;TZID=UTC:20250831T170000
DTSTAMP:20260421T022526
CREATED:20250826T033228Z
LAST-MODIFIED:20251203T044627Z
UID:10005071-1756627200-1756659600@woodoaksfarm.com
SUMMARY:YOGA IN NATURE
DESCRIPTION:Sunday Yoga in Nature with Marina or Julia \nJoin us for an opportunity to connect to nature and your inner calm in a busy world. \nEnjoy a fluid and flowing sequence of grounding\, uplifting yoga\, ending with Savasana relaxation time. \nSuitable for all levels. \nBring Water\, a mat if you have it – spares available. \nDrop in Class – in Black Barn or Farm Field. \n£10.00 Pay on day – card preferable.
URL:https://woodoaksfarm.com/event/yoga-in-nature/2025-08-31/1/
CATEGORIES:Wellness Events
ATTACH;FMTTYPE=image/jpeg:https://woodoaksfarm.com/wp-content/uploads/2025/08/Sunday-yoga-Facebook-Event-Cover.jpg
END:VEVENT
END:VCALENDAR