BEGIN:VCALENDAR
VERSION:2.0
PRODID:-//Woodoaks Farm - ECPv6.15.18//NONSGML v1.0//EN
CALSCALE:GREGORIAN
METHOD:PUBLISH
X-ORIGINAL-URL:https://woodoaksfarm.com
X-WR-CALDESC:Events for Woodoaks Farm
REFRESH-INTERVAL;VALUE=DURATION:PT1H
X-Robots-Tag:noindex
X-PUBLISHED-TTL:PT1H
BEGIN:VTIMEZONE
TZID:UTC
BEGIN:STANDARD
TZOFFSETFROM:+0000
TZOFFSETTO:+0000
TZNAME:UTC
DTSTART:20250101T000000
END:STANDARD
END:VTIMEZONE
BEGIN:VEVENT
DTSTART;TZID=UTC:20260405T100000
DTEND;TZID=UTC:20261025T020000
DTSTAMP:20260424T144551
CREATED:20260401T163709Z
LAST-MODIFIED:20260401T164055Z
UID:10005426-1775383200-1792893600@woodoaksfarm.com
SUMMARY:YOGA IN NATURE
DESCRIPTION:Sunday Yoga in Nature with Marina and Julia \nJoin us for an opportunity to connect to nature and your inner calm in a busy world. \nEnjoy a fluid and flowing sequence of grounding\, uplifting yoga\, ending with Savasana relaxation time. \nSuitable for all levels. \nBring water\, a mat if you have it – spares available. Layers are also useful to add and peel off. \nDrop in Class – in Black Barn or Farm Event Field. \n£10.00 Pay on day – card preferable.
URL:https://woodoaksfarm.com/event/yoga-in-nature-2/2026-04-05/
LOCATION:Woodoaks Farm\, Woodoaks Farm\, Maple Cross\, Hertfordshire\, WD3 9XQ\, United Kingdom
CATEGORIES:Wellness Events
ATTACH;FMTTYPE=image/jpeg:https://woodoaksfarm.com/wp-content/uploads/2025/08/Sunday-yoga-Facebook-Event-Cover.jpg
END:VEVENT
BEGIN:VEVENT
DTSTART;TZID=UTC:20260406T193000
DTEND;TZID=UTC:20260406T203000
DTSTAMP:20260424T144551
CREATED:20250826T040252Z
LAST-MODIFIED:20250827T132319Z
UID:10001633-1775503800-1775507400@woodoaksfarm.com
SUMMARY:BOOTCAMP with LVFITT - Strength & Power
DESCRIPTION:Challenge yourself to improve your fitness\, strength and stamina. \nJoin Lawrence and the Bootcamp team for an hour’s class in a farm setting. \nMonday 7.30-8.30pm – Strength and Power Class. \nBook your class HERE
URL:https://woodoaksfarm.com/event/lvfitt-bootcamp-strength-power/2026-04-06/
LOCATION:Hertfordshire
CATEGORIES:bootcamp,Wellness Events
ATTACH;FMTTYPE=image/jpeg:https://woodoaksfarm.com/wp-content/uploads/2025/08/lvfitt.jpg
ORGANIZER;CN="LVFITT":MAILTO:bookings@lvfitt.co.uk
END:VEVENT
BEGIN:VEVENT
DTSTART;TZID=UTC:20260407T190000
DTEND;TZID=UTC:20260407T210000
DTSTAMP:20260424T144551
CREATED:20260401T135947Z
LAST-MODIFIED:20260401T140133Z
UID:10005374-1775588400-1775595600@woodoaksfarm.com
SUMMARY:EVENING SOUND BATH MEDITATION in The Black Barn
DESCRIPTION:Join us in the majestic 16th Century Black Barn \nBathe in the vibrations of healing instruments. \nTibetan Bowls\, Drums\, Chimes and more will be played around you …. Let the instruments take you on a journey\, to relaxation and restoration. \nTickets £20 \nCLICK HERE TO BOOK \n 
URL:https://woodoaksfarm.com/event/evening-sound-bath-meditation-in-the-black-barn-5/
LOCATION:Woodoaks Farm\, Woodoaks Farm\, Maple Cross\, Hertfordshire\, WD3 9XQ\, United Kingdom
CATEGORIES:Wellness Events
ATTACH;FMTTYPE=image/png:https://woodoaksfarm.com/wp-content/uploads/2026/04/FINAL-SOUND-BATH-MEDITATION-WOODOAKS-FARM-2-scaled.png
ORGANIZER;CN="Nurturing Tranquility":MAILTO:nurturing.tranquillity@gmail.com
END:VEVENT
BEGIN:VEVENT
DTSTART;TZID=UTC:20260410T100000
DTEND;TZID=UTC:20260410T233000
DTSTAMP:20260424T144551
CREATED:20250826T043320Z
LAST-MODIFIED:20260401T154627Z
UID:10002671-1775815200-1775863800@woodoaksfarm.com
SUMMARY:GROW WILD FOREST SCHOOL - Wild Owlets Session for 1-5 year olds.
DESCRIPTION:Join us at our beautiful woodland spot at Woodoaks Farm for a relaxed morning of outdoor play and nature connection\, led by Forest School leader Claire. \nEach week features 90 minutes of nature craft\, wild adventures\, brilliant bugs and plenty of mud. We finish with story time around the crackling fire and a tasty snack. \nForest School is a great place for children to grow their first connection to nature. They can enjoy free time in the outdoors\, make memories\, have fun\, grow friendships\, build independence\, resilience and creativity while soaking up the fresh air and calming views of green. \n£12.50 per child. Additional siblings £10.00 \nAges 1-5 year olds. \nFor Full Details and to book your place click HERE \n  \n 
URL:https://woodoaksfarm.com/event/grow-wild-forest-school-wild-owlets-session-for-1-5-year-olds/2026-04-10/
LOCATION:Fox Dell\, Ladywalk Wood\, Woodoaks Farm
CATEGORIES:Forest School,Wellness Events
ATTACH;FMTTYPE=image/jpeg:https://woodoaksfarm.com/wp-content/uploads/2025/08/473078390_122155019114293800_760617426911171844_n.jpg
END:VEVENT
END:VCALENDAR