BEGIN:VCALENDAR
VERSION:2.0
PRODID:-//Woodoaks Farm - ECPv6.15.18//NONSGML v1.0//EN
CALSCALE:GREGORIAN
METHOD:PUBLISH
X-WR-CALNAME:Woodoaks Farm
X-ORIGINAL-URL:https://woodoaksfarm.com
X-WR-CALDESC:Events for Woodoaks Farm
REFRESH-INTERVAL;VALUE=DURATION:PT1H
X-Robots-Tag:noindex
X-PUBLISHED-TTL:PT1H
BEGIN:VTIMEZONE
TZID:UTC
BEGIN:STANDARD
TZOFFSETFROM:+0000
TZOFFSETTO:+0000
TZNAME:UTC
DTSTART:20240101T000000
END:STANDARD
END:VTIMEZONE
BEGIN:VEVENT
DTSTART;TZID=UTC:20251008T190000
DTEND;TZID=UTC:20251008T200000
DTSTAMP:20260419T230857
CREATED:20250826T040827Z
LAST-MODIFIED:20250827T134226Z
UID:10002388-1759950000-1759953600@woodoaksfarm.com
SUMMARY:LVFITT - BOOTCAMP - Functional Strength
DESCRIPTION:Challenge yourself to improve your fitness\, strength and stamina. \nJoin Lawrence and the Bootcamp team for an hour’s class in a farm setting. \nWednesday – Functional Strength \n7-8pm \nBook your class HERE
URL:https://woodoaksfarm.com/event/lvfitt-bootcamp-functional-strength/2025-10-08/
LOCATION:Hertfordshire
ATTACH;FMTTYPE=image/jpeg:https://woodoaksfarm.com/wp-content/uploads/2025/08/lvfitt.jpg
ORGANIZER;CN="LVFITT":MAILTO:bookings@lvfitt.co.uk
END:VEVENT
BEGIN:VEVENT
DTSTART;TZID=UTC:20251010T093000
DTEND;TZID=UTC:20251010T123000
DTSTAMP:20260419T230857
CREATED:20250826T082537Z
LAST-MODIFIED:20250826T082853Z
UID:10002960-1760088600-1760099400@woodoaksfarm.com
SUMMARY:GENERAL FARM VOLUNTEERING FRIDAYS
DESCRIPTION:Weekly Friday Volunteering under the guidance of Farm Ranger Steve Dutch. \nSign up to join the Woodoaks volunteering team in a way that suits your lifestyle and availability with no obligations. \nMake connections. Find a purpose. Learn something new! \nTasks vary from week to week from wildlife and landscape conservation\, planting\, coppicing and event prep. \nWhether you want a home based volunteer role or active outdoor physical role – there’s something that will fit you! \nSign up HERE  \n 
URL:https://woodoaksfarm.com/event/general-farm-volunteering-fridays/2025-10-10/
LOCATION:Woodoaks Farm\, Woodoaks Farm\, Maple Cross\, Hertfordshire\, WD3 9XQ\, United Kingdom
CATEGORIES:Volunteering
ATTACH;FMTTYPE=image/png:https://woodoaksfarm.com/wp-content/uploads/2025/08/COMPOST-CLUB.png
END:VEVENT
BEGIN:VEVENT
DTSTART;TZID=UTC:20251010T100000
DTEND;TZID=UTC:20251010T233000
DTSTAMP:20260419T230857
CREATED:20250826T043320Z
LAST-MODIFIED:20260401T154627Z
UID:10002650-1760090400-1760139000@woodoaksfarm.com
SUMMARY:GROW WILD FOREST SCHOOL - Wild Owlets Session for 1-5 year olds.
DESCRIPTION:Join us at our beautiful woodland spot at Woodoaks Farm for a relaxed morning of outdoor play and nature connection\, led by Forest School leader Claire. \nEach week features 90 minutes of nature craft\, wild adventures\, brilliant bugs and plenty of mud. We finish with story time around the crackling fire and a tasty snack. \nForest School is a great place for children to grow their first connection to nature. They can enjoy free time in the outdoors\, make memories\, have fun\, grow friendships\, build independence\, resilience and creativity while soaking up the fresh air and calming views of green. \n£12.50 per child. Additional siblings £10.00 \nAges 1-5 year olds. \nFor Full Details and to book your place click HERE \n  \n 
URL:https://woodoaksfarm.com/event/grow-wild-forest-school-wild-owlets-session-for-1-5-year-olds/2025-10-10/
LOCATION:Fox Dell\, Ladywalk Wood\, Woodoaks Farm
CATEGORIES:Forest School,Wellness Events
ATTACH;FMTTYPE=image/jpeg:https://woodoaksfarm.com/wp-content/uploads/2025/08/473078390_122155019114293800_760617426911171844_n.jpg
END:VEVENT
BEGIN:VEVENT
DTSTART;TZID=UTC:20251011T100000
DTEND;TZID=UTC:20251011T104500
DTSTAMP:20260419T230857
CREATED:20251114T163518Z
LAST-MODIFIED:20251114T164103Z
UID:10004801-1760176800-1760179500@woodoaksfarm.com
SUMMARY:ZUMBA WITH FLO
DESCRIPTION:Join Flo Garvey for 45 minutes of pure joy. \n\n\nGuaranteed to get your heart rate up\, improve stamina\, build connection and put a smile on your face. \n\n\n£5.00 donation. All proceeds go towards the Black Barn Project.\nNO BOOKING NECESSARY. JUST TURN UP! Card or Cash payment.
URL:https://woodoaksfarm.com/event/zumba-with-flo-3/2025-10-11/
LOCATION:Woodoaks Farm\, Woodoaks Farm\, Maple Cross\, Hertfordshire\, WD3 9XQ\, United Kingdom
ATTACH;FMTTYPE=image/png:https://woodoaksfarm.com/wp-content/uploads/2025/08/Flo-Zumba-2.png
END:VEVENT
END:VCALENDAR