BEGIN:VCALENDAR
VERSION:2.0
PRODID:-//Woodoaks Farm - ECPv6.15.18//NONSGML v1.0//EN
CALSCALE:GREGORIAN
METHOD:PUBLISH
X-WR-CALNAME:Woodoaks Farm
X-ORIGINAL-URL:https://woodoaksfarm.com
X-WR-CALDESC:Events for Woodoaks Farm
REFRESH-INTERVAL;VALUE=DURATION:PT1H
X-Robots-Tag:noindex
X-PUBLISHED-TTL:PT1H
BEGIN:VTIMEZONE
TZID:UTC
BEGIN:STANDARD
TZOFFSETFROM:+0000
TZOFFSETTO:+0000
TZNAME:UTC
DTSTART:20260101T000000
END:STANDARD
END:VTIMEZONE
BEGIN:VEVENT
DTSTART;TZID=UTC:20270324T093000
DTEND;TZID=UTC:20270324T103000
DTSTAMP:20260421T002544
CREATED:20250826T081445Z
LAST-MODIFIED:20250826T081631Z
UID:10002775-1805880600-1805884200@woodoaksfarm.com
SUMMARY:COMPOST CLUB - volunteering
DESCRIPTION:Come and learn everything you need to know about COMPOST \nWhat to put in\, what to leave out. \nYou’ll learn how to turn your household waste into something that will improve your soil. \nAn hour of outdoor physical work\, connection\, learning and community. \nWednesdays 9.30-10.30am \nDrop in to take part or find out more. \n  \n 
URL:https://woodoaksfarm.com/event/compost-club-volunteering/2027-03-24/
LOCATION:Woodoaks Farm\, Woodoaks Farm\, Maple Cross\, Hertfordshire\, WD3 9XQ\, United Kingdom
CATEGORIES:Volunteering
ATTACH;FMTTYPE=image/jpeg:https://woodoaksfarm.com/wp-content/uploads/2025/08/COMPOST-CLUB-1.jpg
END:VEVENT
BEGIN:VEVENT
DTSTART;TZID=UTC:20270331T093000
DTEND;TZID=UTC:20270331T103000
DTSTAMP:20260421T002544
CREATED:20250826T081445Z
LAST-MODIFIED:20250826T081631Z
UID:10002776-1806485400-1806489000@woodoaksfarm.com
SUMMARY:COMPOST CLUB - volunteering
DESCRIPTION:Come and learn everything you need to know about COMPOST \nWhat to put in\, what to leave out. \nYou’ll learn how to turn your household waste into something that will improve your soil. \nAn hour of outdoor physical work\, connection\, learning and community. \nWednesdays 9.30-10.30am \nDrop in to take part or find out more. \n  \n 
URL:https://woodoaksfarm.com/event/compost-club-volunteering/2027-03-31/
LOCATION:Woodoaks Farm\, Woodoaks Farm\, Maple Cross\, Hertfordshire\, WD3 9XQ\, United Kingdom
CATEGORIES:Volunteering
ATTACH;FMTTYPE=image/jpeg:https://woodoaksfarm.com/wp-content/uploads/2025/08/COMPOST-CLUB-1.jpg
END:VEVENT
BEGIN:VEVENT
DTSTART;TZID=UTC:20270407T093000
DTEND;TZID=UTC:20270407T103000
DTSTAMP:20260421T002544
CREATED:20250826T081445Z
LAST-MODIFIED:20250826T081631Z
UID:10002777-1807090200-1807093800@woodoaksfarm.com
SUMMARY:COMPOST CLUB - volunteering
DESCRIPTION:Come and learn everything you need to know about COMPOST \nWhat to put in\, what to leave out. \nYou’ll learn how to turn your household waste into something that will improve your soil. \nAn hour of outdoor physical work\, connection\, learning and community. \nWednesdays 9.30-10.30am \nDrop in to take part or find out more. \n  \n 
URL:https://woodoaksfarm.com/event/compost-club-volunteering/2027-04-07/
LOCATION:Woodoaks Farm\, Woodoaks Farm\, Maple Cross\, Hertfordshire\, WD3 9XQ\, United Kingdom
CATEGORIES:Volunteering
ATTACH;FMTTYPE=image/jpeg:https://woodoaksfarm.com/wp-content/uploads/2025/08/COMPOST-CLUB-1.jpg
END:VEVENT
BEGIN:VEVENT
DTSTART;TZID=UTC:20270414T093000
DTEND;TZID=UTC:20270414T103000
DTSTAMP:20260421T002544
CREATED:20250826T081445Z
LAST-MODIFIED:20250826T081631Z
UID:10002778-1807695000-1807698600@woodoaksfarm.com
SUMMARY:COMPOST CLUB - volunteering
DESCRIPTION:Come and learn everything you need to know about COMPOST \nWhat to put in\, what to leave out. \nYou’ll learn how to turn your household waste into something that will improve your soil. \nAn hour of outdoor physical work\, connection\, learning and community. \nWednesdays 9.30-10.30am \nDrop in to take part or find out more. \n  \n 
URL:https://woodoaksfarm.com/event/compost-club-volunteering/2027-04-14/
LOCATION:Woodoaks Farm\, Woodoaks Farm\, Maple Cross\, Hertfordshire\, WD3 9XQ\, United Kingdom
CATEGORIES:Volunteering
ATTACH;FMTTYPE=image/jpeg:https://woodoaksfarm.com/wp-content/uploads/2025/08/COMPOST-CLUB-1.jpg
END:VEVENT
BEGIN:VEVENT
DTSTART;TZID=UTC:20270421T093000
DTEND;TZID=UTC:20270421T103000
DTSTAMP:20260421T002544
CREATED:20250826T081445Z
LAST-MODIFIED:20250826T081631Z
UID:10002779-1808299800-1808303400@woodoaksfarm.com
SUMMARY:COMPOST CLUB - volunteering
DESCRIPTION:Come and learn everything you need to know about COMPOST \nWhat to put in\, what to leave out. \nYou’ll learn how to turn your household waste into something that will improve your soil. \nAn hour of outdoor physical work\, connection\, learning and community. \nWednesdays 9.30-10.30am \nDrop in to take part or find out more. \n  \n 
URL:https://woodoaksfarm.com/event/compost-club-volunteering/2027-04-21/
LOCATION:Woodoaks Farm\, Woodoaks Farm\, Maple Cross\, Hertfordshire\, WD3 9XQ\, United Kingdom
CATEGORIES:Volunteering
ATTACH;FMTTYPE=image/jpeg:https://woodoaksfarm.com/wp-content/uploads/2025/08/COMPOST-CLUB-1.jpg
END:VEVENT
BEGIN:VEVENT
DTSTART;TZID=UTC:20270428T093000
DTEND;TZID=UTC:20270428T103000
DTSTAMP:20260421T002544
CREATED:20250826T081445Z
LAST-MODIFIED:20250826T081631Z
UID:10002780-1808904600-1808908200@woodoaksfarm.com
SUMMARY:COMPOST CLUB - volunteering
DESCRIPTION:Come and learn everything you need to know about COMPOST \nWhat to put in\, what to leave out. \nYou’ll learn how to turn your household waste into something that will improve your soil. \nAn hour of outdoor physical work\, connection\, learning and community. \nWednesdays 9.30-10.30am \nDrop in to take part or find out more. \n  \n 
URL:https://woodoaksfarm.com/event/compost-club-volunteering/2027-04-28/
LOCATION:Woodoaks Farm\, Woodoaks Farm\, Maple Cross\, Hertfordshire\, WD3 9XQ\, United Kingdom
CATEGORIES:Volunteering
ATTACH;FMTTYPE=image/jpeg:https://woodoaksfarm.com/wp-content/uploads/2025/08/COMPOST-CLUB-1.jpg
END:VEVENT
BEGIN:VEVENT
DTSTART;TZID=UTC:20270505T093000
DTEND;TZID=UTC:20270505T103000
DTSTAMP:20260421T002544
CREATED:20250826T081445Z
LAST-MODIFIED:20250826T081631Z
UID:10002781-1809509400-1809513000@woodoaksfarm.com
SUMMARY:COMPOST CLUB - volunteering
DESCRIPTION:Come and learn everything you need to know about COMPOST \nWhat to put in\, what to leave out. \nYou’ll learn how to turn your household waste into something that will improve your soil. \nAn hour of outdoor physical work\, connection\, learning and community. \nWednesdays 9.30-10.30am \nDrop in to take part or find out more. \n  \n 
URL:https://woodoaksfarm.com/event/compost-club-volunteering/2027-05-05/
LOCATION:Woodoaks Farm\, Woodoaks Farm\, Maple Cross\, Hertfordshire\, WD3 9XQ\, United Kingdom
CATEGORIES:Volunteering
ATTACH;FMTTYPE=image/jpeg:https://woodoaksfarm.com/wp-content/uploads/2025/08/COMPOST-CLUB-1.jpg
END:VEVENT
BEGIN:VEVENT
DTSTART;TZID=UTC:20270512T093000
DTEND;TZID=UTC:20270512T103000
DTSTAMP:20260421T002544
CREATED:20250826T081445Z
LAST-MODIFIED:20250826T081631Z
UID:10002782-1810114200-1810117800@woodoaksfarm.com
SUMMARY:COMPOST CLUB - volunteering
DESCRIPTION:Come and learn everything you need to know about COMPOST \nWhat to put in\, what to leave out. \nYou’ll learn how to turn your household waste into something that will improve your soil. \nAn hour of outdoor physical work\, connection\, learning and community. \nWednesdays 9.30-10.30am \nDrop in to take part or find out more. \n  \n 
URL:https://woodoaksfarm.com/event/compost-club-volunteering/2027-05-12/
LOCATION:Woodoaks Farm\, Woodoaks Farm\, Maple Cross\, Hertfordshire\, WD3 9XQ\, United Kingdom
CATEGORIES:Volunteering
ATTACH;FMTTYPE=image/jpeg:https://woodoaksfarm.com/wp-content/uploads/2025/08/COMPOST-CLUB-1.jpg
END:VEVENT
BEGIN:VEVENT
DTSTART;TZID=UTC:20270519T093000
DTEND;TZID=UTC:20270519T103000
DTSTAMP:20260421T002544
CREATED:20250826T081445Z
LAST-MODIFIED:20250826T081631Z
UID:10002783-1810719000-1810722600@woodoaksfarm.com
SUMMARY:COMPOST CLUB - volunteering
DESCRIPTION:Come and learn everything you need to know about COMPOST \nWhat to put in\, what to leave out. \nYou’ll learn how to turn your household waste into something that will improve your soil. \nAn hour of outdoor physical work\, connection\, learning and community. \nWednesdays 9.30-10.30am \nDrop in to take part or find out more. \n  \n 
URL:https://woodoaksfarm.com/event/compost-club-volunteering/2027-05-19/
LOCATION:Woodoaks Farm\, Woodoaks Farm\, Maple Cross\, Hertfordshire\, WD3 9XQ\, United Kingdom
CATEGORIES:Volunteering
ATTACH;FMTTYPE=image/jpeg:https://woodoaksfarm.com/wp-content/uploads/2025/08/COMPOST-CLUB-1.jpg
END:VEVENT
BEGIN:VEVENT
DTSTART;TZID=UTC:20270526T093000
DTEND;TZID=UTC:20270526T103000
DTSTAMP:20260421T002544
CREATED:20250826T081445Z
LAST-MODIFIED:20250826T081631Z
UID:10002784-1811323800-1811327400@woodoaksfarm.com
SUMMARY:COMPOST CLUB - volunteering
DESCRIPTION:Come and learn everything you need to know about COMPOST \nWhat to put in\, what to leave out. \nYou’ll learn how to turn your household waste into something that will improve your soil. \nAn hour of outdoor physical work\, connection\, learning and community. \nWednesdays 9.30-10.30am \nDrop in to take part or find out more. \n  \n 
URL:https://woodoaksfarm.com/event/compost-club-volunteering/2027-05-26/
LOCATION:Woodoaks Farm\, Woodoaks Farm\, Maple Cross\, Hertfordshire\, WD3 9XQ\, United Kingdom
CATEGORIES:Volunteering
ATTACH;FMTTYPE=image/jpeg:https://woodoaksfarm.com/wp-content/uploads/2025/08/COMPOST-CLUB-1.jpg
END:VEVENT
BEGIN:VEVENT
DTSTART;TZID=UTC:20270602T093000
DTEND;TZID=UTC:20270602T103000
DTSTAMP:20260421T002544
CREATED:20250826T081445Z
LAST-MODIFIED:20250826T081631Z
UID:10002785-1811928600-1811932200@woodoaksfarm.com
SUMMARY:COMPOST CLUB - volunteering
DESCRIPTION:Come and learn everything you need to know about COMPOST \nWhat to put in\, what to leave out. \nYou’ll learn how to turn your household waste into something that will improve your soil. \nAn hour of outdoor physical work\, connection\, learning and community. \nWednesdays 9.30-10.30am \nDrop in to take part or find out more. \n  \n 
URL:https://woodoaksfarm.com/event/compost-club-volunteering/2027-06-02/
LOCATION:Woodoaks Farm\, Woodoaks Farm\, Maple Cross\, Hertfordshire\, WD3 9XQ\, United Kingdom
CATEGORIES:Volunteering
ATTACH;FMTTYPE=image/jpeg:https://woodoaksfarm.com/wp-content/uploads/2025/08/COMPOST-CLUB-1.jpg
END:VEVENT
BEGIN:VEVENT
DTSTART;TZID=UTC:20270609T093000
DTEND;TZID=UTC:20270609T103000
DTSTAMP:20260421T002544
CREATED:20250826T081445Z
LAST-MODIFIED:20250826T081631Z
UID:10002786-1812533400-1812537000@woodoaksfarm.com
SUMMARY:COMPOST CLUB - volunteering
DESCRIPTION:Come and learn everything you need to know about COMPOST \nWhat to put in\, what to leave out. \nYou’ll learn how to turn your household waste into something that will improve your soil. \nAn hour of outdoor physical work\, connection\, learning and community. \nWednesdays 9.30-10.30am \nDrop in to take part or find out more. \n  \n 
URL:https://woodoaksfarm.com/event/compost-club-volunteering/2027-06-09/
LOCATION:Woodoaks Farm\, Woodoaks Farm\, Maple Cross\, Hertfordshire\, WD3 9XQ\, United Kingdom
CATEGORIES:Volunteering
ATTACH;FMTTYPE=image/jpeg:https://woodoaksfarm.com/wp-content/uploads/2025/08/COMPOST-CLUB-1.jpg
END:VEVENT
BEGIN:VEVENT
DTSTART;TZID=UTC:20270616T093000
DTEND;TZID=UTC:20270616T103000
DTSTAMP:20260421T002544
CREATED:20250826T081445Z
LAST-MODIFIED:20250826T081631Z
UID:10002787-1813138200-1813141800@woodoaksfarm.com
SUMMARY:COMPOST CLUB - volunteering
DESCRIPTION:Come and learn everything you need to know about COMPOST \nWhat to put in\, what to leave out. \nYou’ll learn how to turn your household waste into something that will improve your soil. \nAn hour of outdoor physical work\, connection\, learning and community. \nWednesdays 9.30-10.30am \nDrop in to take part or find out more. \n  \n 
URL:https://woodoaksfarm.com/event/compost-club-volunteering/2027-06-16/
LOCATION:Woodoaks Farm\, Woodoaks Farm\, Maple Cross\, Hertfordshire\, WD3 9XQ\, United Kingdom
CATEGORIES:Volunteering
ATTACH;FMTTYPE=image/jpeg:https://woodoaksfarm.com/wp-content/uploads/2025/08/COMPOST-CLUB-1.jpg
END:VEVENT
BEGIN:VEVENT
DTSTART;TZID=UTC:20270623T093000
DTEND;TZID=UTC:20270623T103000
DTSTAMP:20260421T002544
CREATED:20250826T081445Z
LAST-MODIFIED:20250826T081631Z
UID:10002788-1813743000-1813746600@woodoaksfarm.com
SUMMARY:COMPOST CLUB - volunteering
DESCRIPTION:Come and learn everything you need to know about COMPOST \nWhat to put in\, what to leave out. \nYou’ll learn how to turn your household waste into something that will improve your soil. \nAn hour of outdoor physical work\, connection\, learning and community. \nWednesdays 9.30-10.30am \nDrop in to take part or find out more. \n  \n 
URL:https://woodoaksfarm.com/event/compost-club-volunteering/2027-06-23/
LOCATION:Woodoaks Farm\, Woodoaks Farm\, Maple Cross\, Hertfordshire\, WD3 9XQ\, United Kingdom
CATEGORIES:Volunteering
ATTACH;FMTTYPE=image/jpeg:https://woodoaksfarm.com/wp-content/uploads/2025/08/COMPOST-CLUB-1.jpg
END:VEVENT
BEGIN:VEVENT
DTSTART;TZID=UTC:20270630T093000
DTEND;TZID=UTC:20270630T103000
DTSTAMP:20260421T002544
CREATED:20250826T081445Z
LAST-MODIFIED:20250826T081631Z
UID:10002789-1814347800-1814351400@woodoaksfarm.com
SUMMARY:COMPOST CLUB - volunteering
DESCRIPTION:Come and learn everything you need to know about COMPOST \nWhat to put in\, what to leave out. \nYou’ll learn how to turn your household waste into something that will improve your soil. \nAn hour of outdoor physical work\, connection\, learning and community. \nWednesdays 9.30-10.30am \nDrop in to take part or find out more. \n  \n 
URL:https://woodoaksfarm.com/event/compost-club-volunteering/2027-06-30/
LOCATION:Woodoaks Farm\, Woodoaks Farm\, Maple Cross\, Hertfordshire\, WD3 9XQ\, United Kingdom
CATEGORIES:Volunteering
ATTACH;FMTTYPE=image/jpeg:https://woodoaksfarm.com/wp-content/uploads/2025/08/COMPOST-CLUB-1.jpg
END:VEVENT
BEGIN:VEVENT
DTSTART;TZID=UTC:20270707T093000
DTEND;TZID=UTC:20270707T103000
DTSTAMP:20260421T002544
CREATED:20250826T081445Z
LAST-MODIFIED:20250826T081631Z
UID:10002790-1814952600-1814956200@woodoaksfarm.com
SUMMARY:COMPOST CLUB - volunteering
DESCRIPTION:Come and learn everything you need to know about COMPOST \nWhat to put in\, what to leave out. \nYou’ll learn how to turn your household waste into something that will improve your soil. \nAn hour of outdoor physical work\, connection\, learning and community. \nWednesdays 9.30-10.30am \nDrop in to take part or find out more. \n  \n 
URL:https://woodoaksfarm.com/event/compost-club-volunteering/2027-07-07/
LOCATION:Woodoaks Farm\, Woodoaks Farm\, Maple Cross\, Hertfordshire\, WD3 9XQ\, United Kingdom
CATEGORIES:Volunteering
ATTACH;FMTTYPE=image/jpeg:https://woodoaksfarm.com/wp-content/uploads/2025/08/COMPOST-CLUB-1.jpg
END:VEVENT
BEGIN:VEVENT
DTSTART;TZID=UTC:20270714T093000
DTEND;TZID=UTC:20270714T103000
DTSTAMP:20260421T002544
CREATED:20250826T081445Z
LAST-MODIFIED:20250826T081631Z
UID:10002791-1815557400-1815561000@woodoaksfarm.com
SUMMARY:COMPOST CLUB - volunteering
DESCRIPTION:Come and learn everything you need to know about COMPOST \nWhat to put in\, what to leave out. \nYou’ll learn how to turn your household waste into something that will improve your soil. \nAn hour of outdoor physical work\, connection\, learning and community. \nWednesdays 9.30-10.30am \nDrop in to take part or find out more. \n  \n 
URL:https://woodoaksfarm.com/event/compost-club-volunteering/2027-07-14/
LOCATION:Woodoaks Farm\, Woodoaks Farm\, Maple Cross\, Hertfordshire\, WD3 9XQ\, United Kingdom
CATEGORIES:Volunteering
ATTACH;FMTTYPE=image/jpeg:https://woodoaksfarm.com/wp-content/uploads/2025/08/COMPOST-CLUB-1.jpg
END:VEVENT
BEGIN:VEVENT
DTSTART;TZID=UTC:20270721T093000
DTEND;TZID=UTC:20270721T103000
DTSTAMP:20260421T002544
CREATED:20250826T081445Z
LAST-MODIFIED:20250826T081631Z
UID:10002792-1816162200-1816165800@woodoaksfarm.com
SUMMARY:COMPOST CLUB - volunteering
DESCRIPTION:Come and learn everything you need to know about COMPOST \nWhat to put in\, what to leave out. \nYou’ll learn how to turn your household waste into something that will improve your soil. \nAn hour of outdoor physical work\, connection\, learning and community. \nWednesdays 9.30-10.30am \nDrop in to take part or find out more. \n  \n 
URL:https://woodoaksfarm.com/event/compost-club-volunteering/2027-07-21/
LOCATION:Woodoaks Farm\, Woodoaks Farm\, Maple Cross\, Hertfordshire\, WD3 9XQ\, United Kingdom
CATEGORIES:Volunteering
ATTACH;FMTTYPE=image/jpeg:https://woodoaksfarm.com/wp-content/uploads/2025/08/COMPOST-CLUB-1.jpg
END:VEVENT
BEGIN:VEVENT
DTSTART;TZID=UTC:20270728T093000
DTEND;TZID=UTC:20270728T103000
DTSTAMP:20260421T002544
CREATED:20250826T081445Z
LAST-MODIFIED:20250826T081631Z
UID:10002793-1816767000-1816770600@woodoaksfarm.com
SUMMARY:COMPOST CLUB - volunteering
DESCRIPTION:Come and learn everything you need to know about COMPOST \nWhat to put in\, what to leave out. \nYou’ll learn how to turn your household waste into something that will improve your soil. \nAn hour of outdoor physical work\, connection\, learning and community. \nWednesdays 9.30-10.30am \nDrop in to take part or find out more. \n  \n 
URL:https://woodoaksfarm.com/event/compost-club-volunteering/2027-07-28/
LOCATION:Woodoaks Farm\, Woodoaks Farm\, Maple Cross\, Hertfordshire\, WD3 9XQ\, United Kingdom
CATEGORIES:Volunteering
ATTACH;FMTTYPE=image/jpeg:https://woodoaksfarm.com/wp-content/uploads/2025/08/COMPOST-CLUB-1.jpg
END:VEVENT
BEGIN:VEVENT
DTSTART;TZID=UTC:20270804T093000
DTEND;TZID=UTC:20270804T103000
DTSTAMP:20260421T002544
CREATED:20250826T081445Z
LAST-MODIFIED:20250826T081631Z
UID:10002794-1817371800-1817375400@woodoaksfarm.com
SUMMARY:COMPOST CLUB - volunteering
DESCRIPTION:Come and learn everything you need to know about COMPOST \nWhat to put in\, what to leave out. \nYou’ll learn how to turn your household waste into something that will improve your soil. \nAn hour of outdoor physical work\, connection\, learning and community. \nWednesdays 9.30-10.30am \nDrop in to take part or find out more. \n  \n 
URL:https://woodoaksfarm.com/event/compost-club-volunteering/2027-08-04/
LOCATION:Woodoaks Farm\, Woodoaks Farm\, Maple Cross\, Hertfordshire\, WD3 9XQ\, United Kingdom
CATEGORIES:Volunteering
ATTACH;FMTTYPE=image/jpeg:https://woodoaksfarm.com/wp-content/uploads/2025/08/COMPOST-CLUB-1.jpg
END:VEVENT
BEGIN:VEVENT
DTSTART;TZID=UTC:20270811T093000
DTEND;TZID=UTC:20270811T103000
DTSTAMP:20260421T002544
CREATED:20250826T081445Z
LAST-MODIFIED:20250826T081631Z
UID:10002795-1817976600-1817980200@woodoaksfarm.com
SUMMARY:COMPOST CLUB - volunteering
DESCRIPTION:Come and learn everything you need to know about COMPOST \nWhat to put in\, what to leave out. \nYou’ll learn how to turn your household waste into something that will improve your soil. \nAn hour of outdoor physical work\, connection\, learning and community. \nWednesdays 9.30-10.30am \nDrop in to take part or find out more. \n  \n 
URL:https://woodoaksfarm.com/event/compost-club-volunteering/2027-08-11/
LOCATION:Woodoaks Farm\, Woodoaks Farm\, Maple Cross\, Hertfordshire\, WD3 9XQ\, United Kingdom
CATEGORIES:Volunteering
ATTACH;FMTTYPE=image/jpeg:https://woodoaksfarm.com/wp-content/uploads/2025/08/COMPOST-CLUB-1.jpg
END:VEVENT
BEGIN:VEVENT
DTSTART;TZID=UTC:20270818T093000
DTEND;TZID=UTC:20270818T103000
DTSTAMP:20260421T002544
CREATED:20250826T081445Z
LAST-MODIFIED:20250826T081631Z
UID:10002796-1818581400-1818585000@woodoaksfarm.com
SUMMARY:COMPOST CLUB - volunteering
DESCRIPTION:Come and learn everything you need to know about COMPOST \nWhat to put in\, what to leave out. \nYou’ll learn how to turn your household waste into something that will improve your soil. \nAn hour of outdoor physical work\, connection\, learning and community. \nWednesdays 9.30-10.30am \nDrop in to take part or find out more. \n  \n 
URL:https://woodoaksfarm.com/event/compost-club-volunteering/2027-08-18/
LOCATION:Woodoaks Farm\, Woodoaks Farm\, Maple Cross\, Hertfordshire\, WD3 9XQ\, United Kingdom
CATEGORIES:Volunteering
ATTACH;FMTTYPE=image/jpeg:https://woodoaksfarm.com/wp-content/uploads/2025/08/COMPOST-CLUB-1.jpg
END:VEVENT
BEGIN:VEVENT
DTSTART;TZID=UTC:20270825T093000
DTEND;TZID=UTC:20270825T103000
DTSTAMP:20260421T002544
CREATED:20250826T081445Z
LAST-MODIFIED:20250826T081631Z
UID:10002797-1819186200-1819189800@woodoaksfarm.com
SUMMARY:COMPOST CLUB - volunteering
DESCRIPTION:Come and learn everything you need to know about COMPOST \nWhat to put in\, what to leave out. \nYou’ll learn how to turn your household waste into something that will improve your soil. \nAn hour of outdoor physical work\, connection\, learning and community. \nWednesdays 9.30-10.30am \nDrop in to take part or find out more. \n  \n 
URL:https://woodoaksfarm.com/event/compost-club-volunteering/2027-08-25/
LOCATION:Woodoaks Farm\, Woodoaks Farm\, Maple Cross\, Hertfordshire\, WD3 9XQ\, United Kingdom
CATEGORIES:Volunteering
ATTACH;FMTTYPE=image/jpeg:https://woodoaksfarm.com/wp-content/uploads/2025/08/COMPOST-CLUB-1.jpg
END:VEVENT
BEGIN:VEVENT
DTSTART;TZID=UTC:20270901T093000
DTEND;TZID=UTC:20270901T103000
DTSTAMP:20260421T002544
CREATED:20250826T081445Z
LAST-MODIFIED:20250826T081631Z
UID:10002798-1819791000-1819794600@woodoaksfarm.com
SUMMARY:COMPOST CLUB - volunteering
DESCRIPTION:Come and learn everything you need to know about COMPOST \nWhat to put in\, what to leave out. \nYou’ll learn how to turn your household waste into something that will improve your soil. \nAn hour of outdoor physical work\, connection\, learning and community. \nWednesdays 9.30-10.30am \nDrop in to take part or find out more. \n  \n 
URL:https://woodoaksfarm.com/event/compost-club-volunteering/2027-09-01/
LOCATION:Woodoaks Farm\, Woodoaks Farm\, Maple Cross\, Hertfordshire\, WD3 9XQ\, United Kingdom
CATEGORIES:Volunteering
ATTACH;FMTTYPE=image/jpeg:https://woodoaksfarm.com/wp-content/uploads/2025/08/COMPOST-CLUB-1.jpg
END:VEVENT
BEGIN:VEVENT
DTSTART;TZID=UTC:20270908T093000
DTEND;TZID=UTC:20270908T103000
DTSTAMP:20260421T002544
CREATED:20250826T081445Z
LAST-MODIFIED:20250826T081631Z
UID:10002799-1820395800-1820399400@woodoaksfarm.com
SUMMARY:COMPOST CLUB - volunteering
DESCRIPTION:Come and learn everything you need to know about COMPOST \nWhat to put in\, what to leave out. \nYou’ll learn how to turn your household waste into something that will improve your soil. \nAn hour of outdoor physical work\, connection\, learning and community. \nWednesdays 9.30-10.30am \nDrop in to take part or find out more. \n  \n 
URL:https://woodoaksfarm.com/event/compost-club-volunteering/2027-09-08/
LOCATION:Woodoaks Farm\, Woodoaks Farm\, Maple Cross\, Hertfordshire\, WD3 9XQ\, United Kingdom
CATEGORIES:Volunteering
ATTACH;FMTTYPE=image/jpeg:https://woodoaksfarm.com/wp-content/uploads/2025/08/COMPOST-CLUB-1.jpg
END:VEVENT
BEGIN:VEVENT
DTSTART;TZID=UTC:20270915T093000
DTEND;TZID=UTC:20270915T103000
DTSTAMP:20260421T002544
CREATED:20250826T081445Z
LAST-MODIFIED:20250826T081631Z
UID:10002800-1821000600-1821004200@woodoaksfarm.com
SUMMARY:COMPOST CLUB - volunteering
DESCRIPTION:Come and learn everything you need to know about COMPOST \nWhat to put in\, what to leave out. \nYou’ll learn how to turn your household waste into something that will improve your soil. \nAn hour of outdoor physical work\, connection\, learning and community. \nWednesdays 9.30-10.30am \nDrop in to take part or find out more. \n  \n 
URL:https://woodoaksfarm.com/event/compost-club-volunteering/2027-09-15/
LOCATION:Woodoaks Farm\, Woodoaks Farm\, Maple Cross\, Hertfordshire\, WD3 9XQ\, United Kingdom
CATEGORIES:Volunteering
ATTACH;FMTTYPE=image/jpeg:https://woodoaksfarm.com/wp-content/uploads/2025/08/COMPOST-CLUB-1.jpg
END:VEVENT
BEGIN:VEVENT
DTSTART;TZID=UTC:20270922T093000
DTEND;TZID=UTC:20270922T103000
DTSTAMP:20260421T002544
CREATED:20250826T081445Z
LAST-MODIFIED:20250826T081631Z
UID:10002801-1821605400-1821609000@woodoaksfarm.com
SUMMARY:COMPOST CLUB - volunteering
DESCRIPTION:Come and learn everything you need to know about COMPOST \nWhat to put in\, what to leave out. \nYou’ll learn how to turn your household waste into something that will improve your soil. \nAn hour of outdoor physical work\, connection\, learning and community. \nWednesdays 9.30-10.30am \nDrop in to take part or find out more. \n  \n 
URL:https://woodoaksfarm.com/event/compost-club-volunteering/2027-09-22/
LOCATION:Woodoaks Farm\, Woodoaks Farm\, Maple Cross\, Hertfordshire\, WD3 9XQ\, United Kingdom
CATEGORIES:Volunteering
ATTACH;FMTTYPE=image/jpeg:https://woodoaksfarm.com/wp-content/uploads/2025/08/COMPOST-CLUB-1.jpg
END:VEVENT
BEGIN:VEVENT
DTSTART;TZID=UTC:20270929T093000
DTEND;TZID=UTC:20270929T103000
DTSTAMP:20260421T002544
CREATED:20250826T081445Z
LAST-MODIFIED:20250826T081631Z
UID:10002802-1822210200-1822213800@woodoaksfarm.com
SUMMARY:COMPOST CLUB - volunteering
DESCRIPTION:Come and learn everything you need to know about COMPOST \nWhat to put in\, what to leave out. \nYou’ll learn how to turn your household waste into something that will improve your soil. \nAn hour of outdoor physical work\, connection\, learning and community. \nWednesdays 9.30-10.30am \nDrop in to take part or find out more. \n  \n 
URL:https://woodoaksfarm.com/event/compost-club-volunteering/2027-09-29/
LOCATION:Woodoaks Farm\, Woodoaks Farm\, Maple Cross\, Hertfordshire\, WD3 9XQ\, United Kingdom
CATEGORIES:Volunteering
ATTACH;FMTTYPE=image/jpeg:https://woodoaksfarm.com/wp-content/uploads/2025/08/COMPOST-CLUB-1.jpg
END:VEVENT
BEGIN:VEVENT
DTSTART;TZID=UTC:20271006T093000
DTEND;TZID=UTC:20271006T103000
DTSTAMP:20260421T002544
CREATED:20250826T081445Z
LAST-MODIFIED:20250826T081631Z
UID:10002803-1822815000-1822818600@woodoaksfarm.com
SUMMARY:COMPOST CLUB - volunteering
DESCRIPTION:Come and learn everything you need to know about COMPOST \nWhat to put in\, what to leave out. \nYou’ll learn how to turn your household waste into something that will improve your soil. \nAn hour of outdoor physical work\, connection\, learning and community. \nWednesdays 9.30-10.30am \nDrop in to take part or find out more. \n  \n 
URL:https://woodoaksfarm.com/event/compost-club-volunteering/2027-10-06/
LOCATION:Woodoaks Farm\, Woodoaks Farm\, Maple Cross\, Hertfordshire\, WD3 9XQ\, United Kingdom
CATEGORIES:Volunteering
ATTACH;FMTTYPE=image/jpeg:https://woodoaksfarm.com/wp-content/uploads/2025/08/COMPOST-CLUB-1.jpg
END:VEVENT
BEGIN:VEVENT
DTSTART;TZID=UTC:20271013T093000
DTEND;TZID=UTC:20271013T103000
DTSTAMP:20260421T002544
CREATED:20250826T081445Z
LAST-MODIFIED:20250826T081631Z
UID:10002804-1823419800-1823423400@woodoaksfarm.com
SUMMARY:COMPOST CLUB - volunteering
DESCRIPTION:Come and learn everything you need to know about COMPOST \nWhat to put in\, what to leave out. \nYou’ll learn how to turn your household waste into something that will improve your soil. \nAn hour of outdoor physical work\, connection\, learning and community. \nWednesdays 9.30-10.30am \nDrop in to take part or find out more. \n  \n 
URL:https://woodoaksfarm.com/event/compost-club-volunteering/2027-10-13/
LOCATION:Woodoaks Farm\, Woodoaks Farm\, Maple Cross\, Hertfordshire\, WD3 9XQ\, United Kingdom
CATEGORIES:Volunteering
ATTACH;FMTTYPE=image/jpeg:https://woodoaksfarm.com/wp-content/uploads/2025/08/COMPOST-CLUB-1.jpg
END:VEVENT
END:VCALENDAR